BEGIN:VCALENDAR
VERSION:2.0
PRODID:-//ChamberMaster//Event Calendar 2.0//EN
METHOD:PUBLISH
X-PUBLISHED-TTL:P3D
REFRESH-INTERVAL:P3D
CALSCALE:GREGORIAN
BEGIN:VEVENT
DTSTART:20150325T141500Z
DTEND:20150325T153000Z
X-MICROSOFT-CDO-ALLDAYEVENT:FALSE
SUMMARY:10th Annual "Friendraiser" Breakfast and Auction
DESCRIPTION:This year's festivities will include a live auction and raffle\, as well as the presentation of the Educator\, Student Citizen of the Year\, and CIS Volunteer of the Year Awards
X-ALT-DESC;FMTTYPE=text/html:This year&#39\;s festivities will include a live auction and raffle\, as well as the presentation of the Educator\, Student Citizen of the Year\, and CIS Volunteer of the Year Awards
LOCATION:Washington State Fair and Event Center 110 9th Avenue SW - Puyallup\, WA 98371
UID:e.101.6567
SEQUENCE:3
DTSTAMP:20260424T165947Z
URL:https://business.puyallupsumnerchamber.com/events/details/10th-annual-friendraiser-breakfast-and-auction-03-25-2015-6567
END:VEVENT

END:VCALENDAR
