BEGIN:VCALENDAR
VERSION:2.0
PRODID:-//ChamberMaster//Event Calendar 2.0//EN
METHOD:PUBLISH
X-PUBLISHED-TTL:P3D
REFRESH-INTERVAL:P3D
CALSCALE:GREGORIAN
BEGIN:VEVENT
DTSTART:20160630T200000Z
DTEND:20160701T010000Z
X-MICROSOFT-CDO-ALLDAYEVENT:FALSE
SUMMARY:12th Annual Puyallup Rotary Golf Classic
DESCRIPTION:Join us for the 12th Annual Puyallup Rotary Golf Classic! \n\nEvent Detail: \n\nThursday June 30th\, 2016 - 1PM Shotgun Start - High Cedars Golf Club (14604 149th St Ct\, Orting WA)\n\nEvent Cost:\n\n$100 per golfer - Includes - Range Balls\, 18 Hole Green Fee\, Golf Cart and Dinner\n\nExtra Fun - Men/Women Long Drive contest\, Closest to the Pin\, Hole in 1 Prize and Raffle Prizes
X-ALT-DESC;FMTTYPE=text/html:<p><span style="font-size:14px"><span style="color:#0000CD"><em><strong>Join us for the 12th Annual Puyallup Rotary Golf Classic! </strong></em></span></span></p>\n\n<p><strong>Event Detail: </strong></p>\n\n<p>Thursday June 30th\, 2016 - 1PM Shotgun Start - High Cedars&nbsp\;Golf Club (14604 149th St&nbsp\;Ct\, Orting WA)</p>\n\n<p><strong>Event Cost:</strong></p>\n\n<p>$100 per golfer - Includes - Range Balls\, 18 Hole Green Fee\, Golf Cart and&nbsp\;Dinner</p>\n\n<p><strong>Extra Fun</strong> - Men/Women Long Drive contest\, Closest to the Pin\, Hole in 1 Prize and Raffle Prizes&nbsp\;<br />\n&nbsp\;</p>\n\n<p>&nbsp\;</p>\n\n<p>&nbsp\;</p>\n\n<p>&nbsp\;</p>\n\n<p>&nbsp\;</p>\n\n<p>&nbsp\;</p>\n
LOCATION:14604 149th Street Ct E\, Orting\, WA 98360
UID:e.101.8256
SEQUENCE:3
DTSTAMP:20260423T202153Z
URL:https://business.puyallupsumnerchamber.com/events/details/12th-annual-puyallup-rotary-golf-classic-06-30-2016-8256
END:VEVENT

END:VCALENDAR
