BEGIN:VCALENDAR
VERSION:2.0
PRODID:-//ChamberMaster//Event Calendar 2.0//EN
METHOD:PUBLISH
X-PUBLISHED-TTL:P3D
REFRESH-INTERVAL:P3D
CALSCALE:GREGORIAN
BEGIN:VEVENT
DTSTART:20180809T200000Z
DTEND:20180809T230000Z
X-MICROSOFT-CDO-ALLDAYEVENT:FALSE
SUMMARY:2018 AUSA Salute to the Troops
DESCRIPTION:Puyallup-Sumner Subchapter of  Captain Meriwether Lewis Chapter of\n\n             Association of the United States Army (AUSA)\n\nhosts our 8th annual Salute to the Troops event at Puyallup's Pioneer Park Pavilion\n\nAn opportunity for our two communities to come together to honor the service and sacrifices of our local Soldiers and their Families. \n\nAlso\, the Opportunity for our Soldiers to get to know our local businesses and community leaders. \n\n We have designated three levels of sponsorship with the following associated benefits:\n\n$2\,500 \n\n   Spend three minutes at the podium to spotlight your business\n\n   Event Booth and Logo/Name on event Passport\n\n   Complementary Community Partnership membership or renewal\n\n   Recognition throughout the event and on Social Media\n\n$1\,000\n\n   Event Booth and Logo/Name on event Passport\n\n   Complementary Community Partnership membership or renewal\n\n   Recognition throughout the event and on Social Media\n\n\n\n$ 500\n\n   Event Booth and Logo/Name on event Passport\n\n   Recognition throughout the event and on Social Media\n\nWhile we have designated three levels of financial sponsorship\, we are very grateful for any support provided.  All donations go directly to funding our programs and events that support our local Soldiers and their families.
X-ALT-DESC;FMTTYPE=text/html:<p><span style="color:black\; font-family:arial\,sans-serif">Puyallup-Sumner Subchapter of&nbsp\; Captain Meriwether Lewis Chapter of<br />\n&nbsp\; &nbsp\; &nbsp\; &nbsp\; &nbsp\; &nbsp\; &nbsp\;Association of the United States Army (AUSA)<br />\nhosts our 8th annual Salute to the Troops event at Puyallup&#39\;s Pioneer Park Pavilion<br />\nAn opportunity for our two communities to come together to honor the service and sacrifices of our local Soldiers and their Families.&nbsp\;<br />\nAlso\, the Opportunity for our Soldiers to get to know our local businesses and community leaders.&nbsp\;</span></p>\n\n<p><span style="color:black\; font-family:arial\,sans-serif">&nbsp\;We have designated three levels of sponsorship with the following associated benefits:</span></p>\n\n<p><span style="color:black\; font-family:arial\,sans-serif">$2\,500 </span><br />\n<span style="color:black\; font-family:symbol">&middot\;&nbsp\; </span><span style="color:black\; font-family:arial\,sans-serif">Spend three minutes at the podium to spotlight your business</span><br />\n<span style="color:black\; font-family:symbol">&middot\;&nbsp\; </span><span style="color:black\; font-family:arial\,sans-serif">Event Booth and Logo/Name on event Passport</span><br />\n<span style="color:black\; font-family:symbol">&middot\;&nbsp\; </span><span style="color:black\; font-family:arial\,sans-serif">Complementary Community Partnership membership or renewal</span><br />\n<span style="color:black\; font-family:symbol">&middot\;&nbsp\; </span><span style="color:black\; font-family:arial\,sans-serif">Recognition throughout the event and on Social Media</span></p>\n\n<p><span style="color:black\; font-family:arial\,sans-serif">$1\,000</span><br />\n<span style="color:black\; font-family:symbol">&middot\;&nbsp\; </span><span style="color:black\; font-family:arial\,sans-serif">Event Booth and Logo/Name on event Passport</span><br />\n<span style="color:black\; font-family:symbol">&middot\;&nbsp\; </span><span style="color:black\; font-family:arial\,sans-serif">Complementary Community Partnership membership or renewal</span><br />\n<span style="color:black\; font-family:symbol">&middot\;&nbsp\; </span><span style="color:black\; font-family:arial\,sans-serif">Recognition throughout the event and on Social Media</span><br />\n<br />\n<span style="color:black\; font-family:arial\,sans-serif">$ 500</span><br />\n<span style="color:black\; font-family:symbol">&middot\;&nbsp\; </span><span style="color:black\; font-family:arial\,sans-serif">Event Booth and Logo/Name on event Passport</span><br />\n<span style="background-color:transparent\; color:rgb(0\, 0\, 0)\; font-family:symbol\; font-size:13px">&middot\;&nbsp\; </span><span style="background-color:transparent\; color:rgb(0\, 0\, 0)\; font-family:arial\,sans-serif\; font-size:13px">Recognition throughout the event and on Social Media</span></p>\n\n<p><span style="color:black\; font-family:arial\,sans-serif">While we have designated three levels of financial sponsorship\, we are very grateful for any support provided.&nbsp\; All donations go directly to funding our programs and events that support our local Soldiers and their families.</span><br />\n&nbsp\;</p>\n\n<p><span style="color:black\; font-family:arial\,sans-serif">&nbsp\;</span></p>\n\n<p>&nbsp\;</p>\n
LOCATION:Puyallup Pioneer Park Pavilion
UID:e.101.9143
SEQUENCE:3
DTSTAMP:20260421T133336Z
URL:https://business.puyallupsumnerchamber.com/events/details/2018-ausa-salute-to-the-troops-9143
END:VEVENT

END:VCALENDAR
