BEGIN:VCALENDAR
VERSION:2.0
PRODID:-//ChamberMaster//Event Calendar 2.0//EN
METHOD:PUBLISH
X-PUBLISHED-TTL:P3D
REFRESH-INTERVAL:P3D
CALSCALE:GREGORIAN
BEGIN:VEVENT
DTSTART:20180518T000000Z
DTEND:20180518T030000Z
X-MICROSOFT-CDO-ALLDAYEVENT:FALSE
SUMMARY:2018 Ladies Night Out at Sunrise Village
DESCRIPTION:Thurs\, May 17th \n\n5 - 8pm\n\nJoin us for an evening of\n\nwine\n\npampering\n\nlight bites\n\ngoodies & more...\n \n\nall around Sunrise Village!\n\nProfits from our Ladies Night Out \n\nwill be donated to Lewis Community Spouses' Club\n\nPurchase your ticket\n\nTickets are $30 or $40 for VIP (limited to 50 VIP)\n\nEVERY TICKET RECEIVES\n\nSouvenir wine glass\n\n4 wine tastings\n\n1 raffle ticket\n\nPassport to light bites\, pampering &\n\nfun experiences around Sunrise Village\n\nVIP TICKET ALSO RECEIVES\n\nGoodie bag full of coupons\,\n\nsamples and a fun gift\n\nOnly $10 extra but worth A LOT!
X-ALT-DESC;FMTTYPE=text/html:<h2 style="text-align: center\;"><strong><span style="font-size:33pt"><span style="font-family:arial\,sans-serif"><span style="color:rgb(47\, 46\, 46)">Thurs\, May </span></span></span><span style="font-size:33pt"><span style="font-family:arial\,sans-serif"><span style="color:rgb(47\, 46\, 46)">17</span></span></span><span style="font-size:large"><span style="font-family:times new roman">th</span></span><span style="font-size:33pt"><span style="font-family:arial\,sans-serif"><span style="color:rgb(47\, 46\, 46)">&nbsp\;<br />\n5&nbsp\;- </span></span></span><span style="font-size:33pt"><span style="font-family:arial\,sans-serif"><span style="color:rgb(47\, 46\, 46)">8</span></span></span><span style="font-size:22.5pt"><span style="font-family:arial\,sans-serif"><span style="color:rgb(47\, 46\, 46)">pm</span></span></span></strong></h2>\n\n<h2 style="text-align: center\;"><span style="font-size:17.5pt"><span style="font-family:arial\,sans-serif"><span style="color:rgb(41\, 41\, 41)"><strong>Join us for an evening of</strong></span></span></span></h2>\n\n<h2 style="text-align: center\;"><span style="font-size:34pt"><span style="font-family:comic sans ms"><span style="color:rgb(84\, 20\, 43)"><strong>wine</strong></span></span></span></h2>\n\n<h2 style="text-align: center\;"><span style="font-size:34pt"><span style="font-family:comic sans ms"><span style="color:rgb(84\, 20\, 43)"><strong>pampering</strong></span></span></span></h2>\n\n<h2 style="text-align: center\;"><span style="font-size:34pt"><span style="font-family:comic sans ms"><span style="color:rgb(84\, 20\, 43)"><strong>light bites</strong></span></span></span></h2>\n\n<div style="text-align: center\;"><strong><span style="font-size:34pt"><span style="font-family:comic sans ms"><span style="color:rgb(84\, 20\, 43)">goodies &amp\; more...</span></span></span></strong></div>\n&nbsp\;\n\n<div style="text-align: center\;"><strong><span style="font-size:17.5pt"><span style="font-family:arial\,sans-serif"><span style="color:rgb(41\, 41\, 41)">all around Sunrise Village!<br />\n<span style="font-size:17.5pt"><span style="font-family:arial\,sans-serif"><span style="color:rgb(41\, 41\, 41)">Profits from our&nbsp\;</span></span></span><strong><span style="font-size:26.5pt"><span style="font-family:comic sans ms"><span style="color:rgb(84\, 20\, 43)">Ladies Night Out</span></span></span></strong><span style="font-size:17.5pt"><span style="font-family:arial\,sans-serif"><span style="color:rgb(41\, 41\, 41)">&nbsp\;<br />\nwill be donated to Lewis Community Spouses&rsquo\; Club</span></span></span></span></span></span></strong></div>\n\n<h2 style="text-align: center\;"><span style="font-size:34pt"><span style="font-family:comic sans ms"><span style="color:rgb(84\, 20\, 43)"><strong>Purchase your ticket</strong></span></span></span></h2>\n\n<h2 style="text-align: center\;"><span style="font-size:17.5pt"><span style="font-family:arial\,sans-serif"><span style="color:rgb(41\, 41\, 41)"><strong>Tickets are $30 or $40 for VIP&nbsp\;</strong><em><span style="font-size:17.5pt"><span style="font-family:arial\,sans-serif"><span style="color:rgb(41\, 41\, 41)">(limited to 50 VIP)</span></span></span></em></span></span></span></h2>\n\n<h2 style="text-align: center\;"><span style="font-size:17.5pt"><span style="font-family:arial\,sans-serif"><span style="color:rgb(41\, 41\, 41)"><strong>EVERY TICKET RECEIVES</strong></span></span></span></h2>\n\n<h2 style="text-align: center\;"><span style="font-size:17.5pt"><span style="font-family:arial\,sans-serif"><span style="color:rgb(41\, 41\, 41)">Souvenir wine glass</span></span></span></h2>\n\n<h2 style="text-align: center\;"><span style="font-size:17.5pt"><span style="font-family:arial\,sans-serif"><span style="color:rgb(41\, 41\, 41)">4 wine tastings</span></span></span></h2>\n\n<h2 style="text-align: center\;"><span style="font-size:17.5pt"><span style="font-family:arial\,sans-serif"><span style="color:rgb(41\, 41\, 41)">1 raffle ticket</span></span></span></h2>\n\n<h2 style="text-align: center\;"><span style="font-size:17.5pt"><span style="font-family:arial\,sans-serif"><span style="color:rgb(41\, 41\, 41)">Passport to light bites\, pampering &amp\;</span></span></span></h2>\n\n<h2 style="text-align: center\;"><span style="font-size:17.5pt"><span style="font-family:arial\,sans-serif"><span style="color:rgb(41\, 41\, 41)">fun experiences around Sunrise Village</span></span></span></h2>\n\n<h2 style="text-align: center\;"><span style="font-size:17.5pt"><span style="font-family:arial\,sans-serif"><span style="color:rgb(41\, 41\, 41)"><strong>VIP TICKET ALSO RECEIVES</strong></span></span></span></h2>\n\n<h2 style="text-align: center\;"><span style="font-size:17.5pt"><span style="font-family:arial\,sans-serif"><span style="color:rgb(41\, 41\, 41)">Goodie bag full of coupons\,</span></span></span></h2>\n\n<h2 style="text-align: center\;"><span style="font-size:17.5pt"><span style="font-family:arial\,sans-serif"><span style="color:rgb(41\, 41\, 41)">samples&nbsp\;</span></span></span><strong><span style="font-size:large"><span style="font-family:times new roman">and a fun gift</span></span></strong></h2>\n\n<h2 style="text-align: center\;"><span style="font-size:17.5pt"><span style="font-family:arial\,sans-serif"><span style="color:rgb(41\, 41\, 41)">Only $10 extra but worth A LOT!</span></span></span></h2>\n
LOCATION:Sunrise Village 10507 156th Street E. Puyallup\, WA 98374
UID:e.101.8953
SEQUENCE:3
DTSTAMP:20260421T092645Z
URL:https://business.puyallupsumnerchamber.com/events/details/2018-ladies-night-out-at-sunrise-village-05-17-2018-8953
END:VEVENT

END:VCALENDAR
