BEGIN:VCALENDAR
VERSION:2.0
PRODID:-//ChamberMaster//Event Calendar 2.0//EN
METHOD:PUBLISH
X-PUBLISHED-TTL:P3D
REFRESH-INTERVAL:P3D
CALSCALE:GREGORIAN
BEGIN:VEVENT
DTSTART:20180609T190000Z
DTEND:20180609T220000Z
X-MICROSOFT-CDO-ALLDAYEVENT:FALSE
SUMMARY:2018 Sunrise Village Annual Car Show
DESCRIPTION:June 9\, 2018\n\nCars enter on the end by Anchor Bank \n\ncheck in at the registration booth\n\n*near the Sunrise Village RAM\n\n(10403 156th St\, Puyallup)\n\n\n\n9:30am: *Registration begins. EVERY car owner must come to the registration booth whether you pre-register or not.\n\n(pre-register on our website and your registration card will be filled out for you! Or you can register at the event)\n\n\n\nNoon - 3pm: Live music\, judging\,\n\n50/50 raffle tickets being sold to support\n\nlocal Veteran non-profit organizations\n\n\n\n3pm: Prizes announced\n\nPlease go to the stage by the band for the prizes\n\n\n\nRAIN OR SHINE...
X-ALT-DESC;FMTTYPE=text/html:<div style="text-align: center\;"><strong><span style="font-size:41.5pt"><span style="font-family:arial\,sans-serif"><span style="color:black">June 9\, 2018</span></span></span></strong><br />\n<strong><span style="font-size:30pt"><span style="font-family:arial\,sans-serif"><span style="color:rgb(214\, 16\, 67)">Cars&nbsp\;</span></span></span></strong><span style="font-size:22.5pt"><span style="font-family:arial\,sans-serif"><span style="color:rgb(214\, 16\, 67)">enter on the end by Anchor Bank</span></span></span>&nbsp\;<br />\n<strong><span style="font-size:30pt"><span style="font-family:arial\,sans-serif"><span style="color:rgb(214\, 16\, 67)">check in at the registration booth</span></span></span></strong><br />\n<span style="font-size:22.5pt"><span style="font-family:arial\,sans-serif"><span style="color:rgb(214\, 16\, 67)">*near the Sunrise Village RAM</span></span></span><br />\n<em><span style="font-size:19.5pt"><span style="font-family:arial\,sans-serif"><span style="color:rgb(214\, 16\, 67)">(10403 156th St\, Puyallup)</span></span></span></em><br />\n<br />\n<strong><span style="font-size:19.5pt"><span style="font-family:arial\,sans-serif"><span style="color:black">9:30am:</span></span></span></strong>&nbsp\;<span style="font-size:19.5pt"><span style="font-family:arial\,sans-serif"><span style="color:rgb(214\, 16\, 67)">*Registration begins. EVERY car owner must come to the registration booth whether you pre-register or not.</span></span></span><br />\n<em><span style="font-size:19.5pt"><span style="font-family:arial\,sans-serif"><span style="color:rgb(214\, 16\, 67)">(pre-register on our website and your registration card will be filled out for you! Or you can&nbsp\;register at the event)</span></span></span></em><br />\n<br />\n<strong><span style="font-size:19.5pt"><span style="font-family:arial\,sans-serif"><span style="color:black">Noon - 3pm:</span></span></span></strong>&nbsp\;<span style="font-size:19.5pt"><span style="font-family:arial\,sans-serif"><span style="color:rgb(214\, 16\, 67)">Live music\,&nbsp\;judging\,</span></span></span><br />\n<span style="font-size:19.5pt"><span style="font-family:arial\,sans-serif"><span style="color:rgb(214\, 16\, 67)">50/50 raffle tickets being sold to support</span></span></span><br />\n<span style="font-size:19.5pt"><span style="font-family:arial\,sans-serif"><span style="color:rgb(214\, 16\, 67)">local Veteran non-profit organizations</span></span></span><br />\n<br />\n<strong><span style="font-size:19.5pt"><span style="font-family:arial\,sans-serif"><span style="color:black">3pm:</span></span></span></strong>&nbsp\;<span style="font-size:19.5pt"><span style="font-family:arial\,sans-serif"><span style="color:rgb(214\, 16\, 67)">Prizes announced</span></span></span><br />\n<span style="font-size:19.5pt"><span style="font-family:arial\,sans-serif"><span style="color:rgb(214\, 16\, 67)">Please go to the stage by the band for the prizes</span></span></span><br />\n<br />\n<strong><em><span style="font-size:19.5pt"><span style="font-family:arial\,sans-serif"><span style="color:rgb(92\, 104\, 108)">RAIN OR SHINE...</span></span></span></em></strong></div>\n
LOCATION:Sunrise Village 10501 156th Street E. Puyallup\, WA 98374
UID:e.101.8952
SEQUENCE:3
DTSTAMP:20260423T085641Z
URL:https://business.puyallupsumnerchamber.com/events/details/2018-sunrise-village-annual-car-show-06-09-2018-8952
END:VEVENT

END:VCALENDAR
