BEGIN:VCALENDAR
VERSION:2.0
PRODID:-//ChamberMaster//Event Calendar 2.0//EN
METHOD:PUBLISH
X-PUBLISHED-TTL:P3D
REFRESH-INTERVAL:P3D
CALSCALE:GREGORIAN
BEGIN:VEVENT
DTSTART:20160416T160000Z
DTEND:20160416T200000Z
X-MICROSOFT-CDO-ALLDAYEVENT:FALSE
SUMMARY:4/16/16 Secure your ID Day
DESCRIPTION:Secure Your ID Day Free Shredding and Electronic Recycling Sat.\, April 16\, 2016 9:00 a.m. - 1:00 p.m. BBB Parking Lot 1000 Station Drive DuPont\, WA 98327 What is Secure Your ID Day? Secure Your ID Day is a complimentary event provided to our local communities as an opportunity to safely and securely dispose of unneeded personal documents and electronics. Document Shredding Mobile shredding trucks will be on-site from 9:00 a.m. - 1:00 p.m. accepting three bags or boxes of unwanted documents per person. Please note that cardboard and three-ring binders cannot be accepted. Electronic Recycling Green PC will accept the below items free of charge! TV monitors\, computers\, laptops\, printeres\, DVD players\, VCR's\, Stereos\, Computer accessories (keyboards\, mice\, speakers)\, Cables/Wires\, Laptop batteries\, Battery back-ups\, and Network Equipment. Off-site data destruction without certificates will be provided for free for all hard drives or computers. Will not accept: Large appliances\, light bulbs\, alkaline batteries\, and vacuums
X-ALT-DESC;FMTTYPE=text/html:Secure Your ID Day Free Shredding and Electronic Recycling Sat.\, April 16\, 2016 9:00 a.m. - 1:00 p.m. BBB Parking Lot 1000 Station Drive DuPont\, WA 98327 What is Secure Your ID Day? Secure Your ID Day is a complimentary event provided to our local communities as an opportunity to safely and securely dispose of unneeded personal documents and electronics. Document Shredding Mobile shredding trucks will be on-site from 9:00 a.m. - 1:00 p.m. accepting three bags or boxes of unwanted documents per person. Please note that cardboard and three-ring binders cannot be accepted. Electronic Recycling Green PC will accept the below items free of charge! TV monitors\, computers\, laptops\, printeres\, DVD players\, VCR&#39\;s\, Stereos\, Computer accessories (keyboards\, mice\, speakers)\, Cables/Wires\, Laptop batteries\, Battery back-ups\, and Network Equipment. Off-site data destruction without certificates will be provided for free for all hard drives or computers. Will not accept: Large appliances\, light bulbs\, alkaline batteries\, and vacuums
LOCATION:Better Business Bureau Parking Lot 1000 Station Drive DuPont\, WA 98327
UID:e.101.8016
SEQUENCE:3
DTSTAMP:20260423T214740Z
URL:https://business.puyallupsumnerchamber.com/events/details/4-16-16-secure-your-id-day-04-16-2016-8016
END:VEVENT

END:VCALENDAR
