BEGIN:VCALENDAR
VERSION:2.0
PRODID:-//ChamberMaster//Event Calendar 2.0//EN
METHOD:PUBLISH
X-PUBLISHED-TTL:P3D
REFRESH-INTERVAL:P3D
CALSCALE:GREGORIAN
BEGIN:VEVENT
DTSTART:20180704T210000Z
DTEND:20180705T000000Z
X-MICROSOFT-CDO-ALLDAYEVENT:FALSE
SUMMARY:4th of July Concert at the Mansion
DESCRIPTION:
X-ALT-DESC;FMTTYPE=text/html:
LOCATION:
UID:e.101.9060
SEQUENCE:3
DTSTAMP:20260421T134107Z
URL:https://business.puyallupsumnerchamber.com/events/details/4th-of-july-concert-at-the-mansion-07-04-2018-9060
END:VEVENT

END:VCALENDAR
