BEGIN:VCALENDAR
VERSION:2.0
PRODID:-//ChamberMaster//Event Calendar 2.0//EN
METHOD:PUBLISH
X-PUBLISHED-TTL:P3D
REFRESH-INTERVAL:P3D
CALSCALE:GREGORIAN
BEGIN:VEVENT
DTSTART:20180804T160000Z
DTEND:20180805T040000Z
X-MICROSOFT-CDO-ALLDAYEVENT:FALSE
SUMMARY:50% Sale
DESCRIPTION:50% off Everything Sale\n\nValue Village will be having a big 50% off Everything Sale (except new red tag items).\n\nThis is the sale everyone has been asking for and now it is here!
X-ALT-DESC;FMTTYPE=text/html:<span style="color:#0000FF\;"><strong>50% off <u>Everything</u> Sale</strong></span><br />\nValue Village will be having a big&nbsp\;50% off Everything Sale&nbsp\;(except new red tag items).<br />\n<em>This is the sale everyone has been asking for and now it is here!</em>
LOCATION:Value Village 1124 River Road Puyallup\, Washington
UID:e.101.9153
SEQUENCE:3
DTSTAMP:20260421T131450Z
URL:https://business.puyallupsumnerchamber.com/events/details/50-sale-9153
END:VEVENT

END:VCALENDAR
