BEGIN:VCALENDAR
VERSION:2.0
PRODID:-//ChamberMaster//Event Calendar 2.0//EN
METHOD:PUBLISH
X-PUBLISHED-TTL:P3D
REFRESH-INTERVAL:P3D
CALSCALE:GREGORIAN
BEGIN:VEVENT
DTSTART:20180324T000000Z
DTEND:20180324T040000Z
X-MICROSOFT-CDO-ALLDAYEVENT:FALSE
SUMMARY:56th Annual Rotary Crab Feed
DESCRIPTION:56th Annual Puyallup Rotary Crab Feed\n\nFriday March 23rd\, 2018\n\nDoors open at 5PM Food line opens at 6PM\n\n \n\nGreat Food\, Beer and Wine\, Music\, Silent Auction and Raffle\n\nA Night Full of Family FUN!\n\n \n\nClick Here To Order Your Tickets Online\n\n\n\n*There is a $1 processing fee (added into first ticket cost) per registration \n\nAny add-ons (extra tickets or bonus packages) will not include the $1 processing fee when added during registration\n\n\n\nAll funds raised will be used to better our community and within the world!\n\nTo find out more about Puyallup Rotary Projects please visit www.puyalluprotary.org \n\n \n\nMenu Items:\n\nDungeness Crab Pre-cracked served cold\n\n(Bring metal fork for ease of opening)\n\nOyster Stew\n\nPotato Soup\n\nBaked Beans from Brinks BBQ\n\nPotato Salad from Charlies\n\nGourmet Mac & Cheese from HG Bistro\n\nCesar Salad \n\n(Chopped Chicken on side) \n\nHot Dogs
X-ALT-DESC;FMTTYPE=text/html:<div style="text-align: center\;"><span style="font-size:22px"><span style="color:rgb(178\, 34\, 34)"><strong>56th Annual Puyallup Rotary Crab Feed</strong></span></span><br />\n<span style="font-size:18px"><strong><span style="color:rgb(0\, 0\, 255)">Friday March 23rd\, 2018</span></strong></span></div>\n\n<div style="text-align: center\;"><span style="font-size:12px"><strong>Doors open at 5PM Food line opens at 6PM</strong></span></div>\n\n<div style="text-align: center\;">&nbsp\;</div>\n\n<div style="text-align: center\;"><span style="font-size:20px">Great Food\, Beer and Wine\,&nbsp\;Music\, Silent Auction and Raffle<br />\n<strong>A Night Full of Family <u>FUN</u>!</strong></span></div>\n\n<div style="text-align: center\;">&nbsp\;</div>\n\n<div style="text-align: center\;"><strong><a href="https://www.crsadmin.com/EventPortal/Registrations/PublicFill/EventPublicFill.aspx?evtid=47b9a785-08f4-41fd-af1b-a1de5facf61b" target="_blank"><span style="font-size:22px"><u>Click Here To Order Your Tickets Online</u></span></a><br />\n<br />\n<span style="color:rgb(255\, 0\, 0)">*There is a $1 processing fee (added into&nbsp\;first ticket&nbsp\;cost)&nbsp\;per&nbsp\;registration&nbsp\;<br />\nAny add-ons (extra tickets or bonus packages) will <u>not </u>include the $1 processing fee&nbsp\;when&nbsp\;added during registration</span><br />\n<br />\nAll funds raised will be used to better our community and within the world!<br />\nTo find out more about Puyallup Rotary Projects please visit <a href="http://www.puyalluprotary.org/">www.puyalluprotary.org</a> </strong></div>\n\n<div style="text-align: center\;">&nbsp\;</div>\n\n<div style="text-align: center\;"><span style="font-size:18px">Menu Items:</span></div>\n\n<div style="text-align: center\;"><span style="font-size:18px">Dungeness Crab Pre-cracked served cold</span></div>\n\n<div style="text-align: center\;"><span style="font-size:11px">(Bring metal fork for ease of opening)</span></div>\n\n<div style="text-align: center\;"><span style="font-size:18px">Oyster Stew</span></div>\n\n<div style="text-align: center\;"><span style="font-size:18px">Potato Soup</span></div>\n\n<div style="text-align: center\;"><span style="font-size:18px">Baked Beans from Brinks BBQ</span></div>\n\n<div style="text-align: center\;"><span style="font-size:18px">Potato Salad from Charlies</span></div>\n\n<div style="text-align: center\;"><span style="font-size:18px">Gourmet Mac &amp\; Cheese from HG Bistro</span></div>\n\n<div style="text-align: center\;"><span style="font-size:18px">Cesar Salad </span></div>\n\n<div style="text-align: center\;"><span style="font-size:11px">(Chopped Chicken on side)&nbsp\;</span></div>\n\n<div style="text-align: center\;"><span style="font-size:18px">Hot Dogs</span></div>\n\n<div style="text-align: center\;">&nbsp\;</div>\n
LOCATION:Doors open at 5PM Food line opens at 6PM Washington State Fair Ground - Pavilion
UID:e.101.8852
SEQUENCE:3
DTSTAMP:20260421T052019Z
URL:https://business.puyallupsumnerchamber.com/events/details/56th-annual-rotary-crab-feed-03-23-2018-8852
END:VEVENT

END:VCALENDAR
