BEGIN:VCALENDAR
VERSION:2.0
PRODID:-//ChamberMaster//Event Calendar 2.0//EN
METHOD:PUBLISH
X-PUBLISHED-TTL:P3D
REFRESH-INTERVAL:P3D
CALSCALE:GREGORIAN
BEGIN:VEVENT
DTSTART:20161224T160000Z
DTEND:20161224T210000Z
X-MICROSOFT-CDO-ALLDAYEVENT:FALSE
SUMMARY:Altrusa Internation of Puyallup Valley - GIFT WRAPPING at South Hill Mall
DESCRIPTION:Our local Altrusans will be providing gift wrapping at the South Hill Mall on the mornings of Friday\, December 23 from 9 am - 1 pm and Saturday\, December 24 from 8 am to 1 pm.\n	Gifts don't have to be purchased at the Mall - bring anything that needs to be wrapped!\n	Funds raised from donations go to provide scholarships for local students and to support other literacy focused projects.
X-ALT-DESC;FMTTYPE=text/html:<ul>\n	<li>Our local Altrusans will be providing gift wrapping at the South Hill Mall on the mornings of&nbsp\;Friday\, December 23&nbsp\;from&nbsp\;9 am - 1 pm&nbsp\;and&nbsp\;Saturday\, December 24&nbsp\;from&nbsp\;8 am to 1 pm.</li>\n	<li>Gifts don&#39\;t have to be purchased at the Mall - bring anything that needs to be wrapped!</li>\n	<li>Funds raised from donations go to provide scholarships for local students and to support other literacy focused projects.</li>\n</ul>\n
LOCATION:South Hill Mall
UID:e.101.8460
SEQUENCE:3
DTSTAMP:20260423T085824Z
URL:https://business.puyallupsumnerchamber.com/events/details/altrusa-internation-of-puyallup-valley-gift-wrapping-at-south-hill-mall-12-24-2016-8460
END:VEVENT

END:VCALENDAR
