BEGIN:VCALENDAR
VERSION:2.0
PRODID:-//ChamberMaster//Event Calendar 2.0//EN
METHOD:PUBLISH
X-PUBLISHED-TTL:P3D
REFRESH-INTERVAL:P3D
CALSCALE:GREGORIAN
BEGIN:VEVENT
DTSTART:20161022T210000Z
DTEND:20161022T230000Z
X-MICROSOFT-CDO-ALLDAYEVENT:FALSE
SUMMARY:Altrusa Wine Tasting at Total Wine & More
DESCRIPTION:Come learn about and taste wine while supporting this dynamic service group\, Altrusa International of Puyallup Valley.  Altrusa is dedicated to promoting literacy\, family\, and education in our community.  Funds raised help support our college scholarship program as well as help us provide meals inthe community and books to local school children.  This event is great fun and a wonderful way to give back!
X-ALT-DESC;FMTTYPE=text/html:Come learn about and taste wine while supporting this dynamic service group\, Altrusa International of Puyallup Valley. &nbsp\;Altrusa is dedicated to promoting literacy\, family\, and education in our community. &nbsp\;Funds raised help support our college scholarship program as well as help us provide meals inthe community and books to local school children. &nbsp\;This event is great fun and a wonderful way to give back!
LOCATION:Total Wine & More (Puyallup\, WA) 120 31st Ave SE\, Unit F\, Puyallup\, WA 98374
UID:e.101.8436
SEQUENCE:3
DTSTAMP:20260423T124017Z
URL:https://business.puyallupsumnerchamber.com/events/details/altrusa-wine-tasting-at-total-wine-more-10-22-2016-8436
END:VEVENT

END:VCALENDAR
