BEGIN:VCALENDAR
VERSION:2.0
PRODID:-//ChamberMaster//Event Calendar 2.0//EN
METHOD:PUBLISH
X-PUBLISHED-TTL:P3D
REFRESH-INTERVAL:P3D
CALSCALE:GREGORIAN
BEGIN:VEVENT
DTSTART:20141015T003000Z
DTEND:20141015T023000Z
X-MICROSOFT-CDO-ALLDAYEVENT:FALSE
SUMMARY:Armstrong Fitness Ribbon Cutting
DESCRIPTION:716 South Hill Park Drive\, Puyallup
X-ALT-DESC;FMTTYPE=text/html:<div><span style="color:#008080\;"><span style="font-size:14px\;">716 South Hill Park Drive\, Puyallup</span></span></div>\n
LOCATION:716 South Hill Park Drive\, Puyallup
UID:e.101.6509
SEQUENCE:3
DTSTAMP:20260425T014400Z
URL:https://business.puyallupsumnerchamber.com/events/details/armstrong-fitness-ribbon-cutting-10-14-2014-6509
END:VEVENT

END:VCALENDAR
