BEGIN:VCALENDAR
VERSION:2.0
PRODID:-//ChamberMaster//Event Calendar 2.0//EN
METHOD:PUBLISH
X-PUBLISHED-TTL:P3D
REFRESH-INTERVAL:P3D
CALSCALE:GREGORIAN
BEGIN:VEVENT
DTSTART:20151211T023000Z
DTEND:20151211T050000Z
X-MICROSOFT-CDO-ALLDAYEVENT:FALSE
SUMMARY:AUDITIONS for Broadway On The Side's next show
DESCRIPTION:Our next musical cabaret titled "LOVE\, LOVE\, LOVE" will be performing in February! We will showcase musical numbers in a cabaret-style setting from Broadway shows such as "Honeymoon in Vegas\," "The Little Mermaid\," "Hairspray\," "The Music Man\," "On The Town" and "Something Rotten" to name a few. Each song is specifically arranged for this cast and the performances are accompanied with live music comprised of local\, talented musicians. We also take into account our performers' schedules and other shows they may be involved in\, so we create our rehearsals around theirs to allow maximum flexibility. \n\n\n\nCome audition! We look forward to meeting you. \n\n\n\nBroadway On The Side is a 501(c)(3) nonprofit company geared towards education in the arts for all ages\, advancement in training for current performers\, and providing a cultural experience for the greater South Puget Sound area. \n\n\n\nFor more information\, check out our audition post on TPS http://tpsonline.org/auditions/auddb.php?Aud_ID=24917 or visit our website at www.broadwayontheside.org. We look forward to meeting you!\n\n\n\nAPPOINTMENTS/CONTACT INFO:\n\nSend an email to auditions@broadwayontheside.org or call/text (253)987-6658 to request an audition. Walk-ins are welcome and will be seen on a first-come\, first-served basis.\n\n\n\nCOME PREPARED:\n\nPlease prepare a song that will showcase your vocal and storytelling ability (limit your song selection to 90 seconds or a verse and a chorus). An accompanist will be provided but transposing will not be available. Please bring a resume and headshot to your audition if you have one. A brief callback may be held at the time of audition. While adult performers are encouraged to attend\, auditions are open to those ages 10 and up. We welcome diversity.\n\n\n\nTIME COMMITMENT:\n\nWe work with actors involved in various projects. Because of this\, the rehearsal schedule will be as flexible as possible to accommodate cast members' needs but we need to know conflicts ahead of time. \n\n\n\nOrientation and first rehearsal will be Tuesday\, December 15th from 6:30-9pm. Rehearsals will then resume Monday\, January 12th and continue until production. Not all cast members will be needed at all rehearsals. Performance dates are February 19th\, 20th\, & 21st.
X-ALT-DESC;FMTTYPE=text/html:<span style="font-family:helvetica neue\,helvetica\,arial\,sans-serif\; font-size:14px">Our next musical cabaret titled &quot\;LOVE\, LOVE\, LOVE&quot\; will be performing in February! We will showcase musical numbers in a cabaret-style setting from Broadway shows such as &quot\;Honeymoon in Vegas\,&quot\; &quot\;The Little Mermaid\,&quot\; &quot\;Hairspray\,&quot\; &quot\;The Music Man\,&quot\; &quot\;On The Town&quot\; and &quot\;Something Rotten&quot\; to name a few. Each song is specifically arranged for this cast and the performances are accompanied with live music comprised of local\, talented musicians. We also take into account our performers&#39\; schedules and other shows they may be involved in\, so we create our rehearsals around theirs to allow maximum flexibility.&nbsp\;</span><br />\n<br />\n<span style="font-family:helvetica neue\,helvetica\,arial\,sans-serif\; font-size:14px">Come audition! We look forward to meeting you.&nbsp\;</span><br />\n<br />\n<span style="font-family:helvetica neue\,helvetica\,arial\,sans-serif\; font-size:14px">Broadway On The Side is a 501(c)(3) nonprofit company geared towards education in the arts for all ages\, advancement in training for current performers\, and providing a cultural experience for the greater South Puget Sound area.&nbsp\;</span><br />\n<br />\n<span style="font-family:helvetica neue\,helvetica\,arial\,sans-serif\; font-size:14px">For more information\,&nbsp\;</span><span style="color:rgb(20\, 24\, 35)\; font-family:helvetica\,arial\,sans-serif\; font-size:14px">check out our audition post on TPS&nbsp\;</span><a href="http://l.facebook.com/l.php?u=http%3A%2F%2Ftpsonline.org%2Fauditions%2Fauddb.php%3FAud_ID%3D24917&amp\;h=zAQEwkaJn&amp\;enc=AZPETJCjok0qsGKwXs00lraoOybzqct-uasXlQlk1nrTepXPPC59JNx-uZ3SLQLqLyY&amp\;s=1" rel="nofollow nofollow" style="color: rgb(59\, 89\, 152)\; font-family: helvetica\, arial\, sans-serif\; font-size: 14px\; line-height: 22.3999996185303px\; cursor: pointer\; text-decoration: none\;" target="_blank">http://tpsonline.org/auditions/auddb.php?Aud_ID=24917</a><span style="color:rgb(20\, 24\, 35)\; font-family:helvetica\,arial\,sans-serif\; font-size:14px">&nbsp\;or visit our website at&nbsp\;</span><a href="http://l.facebook.com/l.php?u=http%3A%2F%2Fwww.broadwayontheside.org%2F&amp\;h=FAQFqJY3k&amp\;enc=AZPOPf8_orptSI02XwLszqgZdS-vFy0MaiQqy2VPclUIRTe0_Aj46ZPdn7VcrnRHlJk&amp\;s=1" rel="nofollow nofollow" style="color: rgb(59\, 89\, 152)\; font-family: helvetica\, arial\, sans-serif\; font-size: 14px\; line-height: 22.3999996185303px\; cursor: pointer\; text-decoration: none\;" target="_blank">www.broadwayontheside.org.</a><span style="color:rgb(20\, 24\, 35)\; font-family:helvetica\,arial\,sans-serif\; font-size:14px">&nbsp\;We look forward to meeting you!</span><br />\n<br />\n<span style="color:rgb(20\, 24\, 35)\; font-family:helvetica\,arial\,sans-serif\; font-size:14px">APPOINTMENTS/CONTACT INFO:</span><br />\n<span style="color:rgb(20\, 24\, 35)\; font-family:helvetica\,arial\,sans-serif\; font-size:14px">Send an email to auditions@broadwayonthesid</span><span style="color:rgb(20\, 24\, 35)\; font-family:helvetica\,arial\,sans-serif\; font-size:14px">e.org or call/text (253)987-6658 to request an audition. Walk-ins are welcome and will be seen on a first-come\, first-served basis.</span><br />\n<br />\n<span style="color:rgb(20\, 24\, 35)\; font-family:helvetica\,arial\,sans-serif\; font-size:14px">COME PREPARED:</span><br />\n<span style="color:rgb(20\, 24\, 35)\; font-family:helvetica\,arial\,sans-serif\; font-size:14px">Please prepare a song that will showcase your vocal and storytelling ability (limit your song selection to 90 seconds or a verse and a chorus). An accompanist will be provided but transposing will not be available. Please bring a resume and headshot to your audition if you have one. A brief callback may be held at the time of audition. While adult performers are encouraged to attend\, auditions are open to those ages 10 and up. We welc</span><span style="color:rgb(20\, 24\, 35)\; font-family:helvetica\,arial\,sans-serif\; font-size:14px">ome diversity.<br />\n<br />\nTIME COMMITMENT:<br />\nWe work with actors involved in various projects. Because of this\, the rehearsal schedule will be as flexible as possible to accommodate cast members&#39\; needs but we need to know conflicts ahead of time.&nbsp\;<br />\n<br />\nOrientation and first rehearsal will be Tuesday\, December 15th from 6:30-9pm. Rehearsals will then resume Monday\, January 12th and continue until production. Not all cast members will be needed at all rehearsals. Performance dates are February 19th\, 20th\, &amp\; 21st.&nbsp\;</span>
LOCATION:Maple Lawn Elementary 230 Wood Avenue Sumner\, WA 98390
UID:e.101.6814
SEQUENCE:3
DTSTAMP:20260424T045949Z
URL:https://business.puyallupsumnerchamber.com/events/details/auditions-for-broadway-on-the-side-s-next-show-12-10-2015-6814
END:VEVENT

END:VCALENDAR
