BEGIN:VCALENDAR
VERSION:2.0
PRODID:-//ChamberMaster//Event Calendar 2.0//EN
METHOD:PUBLISH
X-PUBLISHED-TTL:P3D
REFRESH-INTERVAL:P3D
CALSCALE:GREGORIAN
BEGIN:VEVENT
DTSTART:20160721T183000Z
DTEND:20160721T213000Z
X-MICROSOFT-CDO-ALLDAYEVENT:FALSE
SUMMARY:Blood Drive at Absher Construction
DESCRIPTION:GIVE BLOOD SAVE LIVES \n\nCascade Regional Blood Services is committed to serving the residents of East Pierce County. For over 65 years CRBS has provided blood products and services to Pierce and South King County hospitals and clinics\, including Good Samaritan Hospital. We are proud to be your community blood center! \n\nBefore you donate\, be sure to eat well and drink plenty of non-caffeinated beverages. BRING PHOTO ID.
X-ALT-DESC;FMTTYPE=text/html:<p><span style="font-family:arial narrow\,sans-serif">GIVE BLOOD SAVE LIVES </span></p>\n\n<p><span style="font-family:arial narrow\,sans-serif">Cascade Regional Blood Services is committed to serving the residents of East Pierce County. For over 65 years CRBS has provided blood products and services to Pierce and South King County hospitals and clinics\, including Good Samaritan Hospital. We are proud to be your community blood center! </span></p>\n\n<p><span style="font-family:arial narrow\,sans-serif\; line-height:1.6">Before you donate\, be sure to eat well and drink plenty of non-caffeinated beverages. </span><span style="font-family:arial narrow\,sans-serif\; line-height:1.6">BRING PHOTO ID.</span></p>\n
LOCATION:Absher Construction 1001 Shaw Road\, Puyallup
UID:e.101.8402
SEQUENCE:3
DTSTAMP:20260423T170526Z
URL:https://business.puyallupsumnerchamber.com/events/details/blood-drive-at-absher-construction-07-21-2016-8402
END:VEVENT

END:VCALENDAR
