BEGIN:VCALENDAR
VERSION:2.0
PRODID:-//ChamberMaster//Event Calendar 2.0//EN
METHOD:PUBLISH
X-PUBLISHED-TTL:P3D
REFRESH-INTERVAL:P3D
CALSCALE:GREGORIAN
BEGIN:VEVENT
DTSTART:20151017T150000Z
DTEND:20151017T180000Z
X-MICROSOFT-CDO-ALLDAYEVENT:FALSE
SUMMARY:Blood Drive at All Saints Catholic Church
DESCRIPTION:GIVE BLOOD SAVE LIVES\n\nCascade Regional Blood Services is committed to serving the residents of East Pierce County. For over 65 years CRBS has provided blood products and services to Pierce and South King County hospitals and clinics\, including Good Samaritan Hospital. We are proud to be your community blood center!\n\nBefore you donate\, be sure to eat well and drink plenty of non-caffeinated beverages.\n\nBRING PHOTO ID.
X-ALT-DESC;FMTTYPE=text/html:<p>GIVE BLOOD SAVE LIVES</p>\n\n<p>Cascade Regional Blood Services is committed to serving the residents of East Pierce County. For over 65 years CRBS has provided blood products and services to Pierce and South King County hospitals and clinics\, including Good Samaritan Hospital. We are proud to be your community blood center!</p>\n\n<p>Before you donate\, be sure to eat well and drink plenty of non-caffeinated beverages.</p>\n\n<p>BRING PHOTO ID.</p>\n
LOCATION:
UID:e.101.3602
SEQUENCE:3
DTSTAMP:20260424T063419Z
URL:https://business.puyallupsumnerchamber.com/events/details/blood-drive-at-all-saints-catholic-church-10-17-2015-3602
END:VEVENT

END:VCALENDAR
