BEGIN:VCALENDAR
VERSION:2.0
PRODID:-//ChamberMaster//Event Calendar 2.0//EN
METHOD:PUBLISH
X-PUBLISHED-TTL:P3D
REFRESH-INTERVAL:P3D
CALSCALE:GREGORIAN
BEGIN:VEVENT
DTSTART:20150927T153000Z
DTEND:20150927T190000Z
X-MICROSOFT-CDO-ALLDAYEVENT:FALSE
SUMMARY:Blood Drive at Celebration Lutheran Church
DESCRIPTION:GIVE BLOOD SAVE LIVES \n\nCascade Regional Blood Services is committed to serving the residents of East Pierce County. For over 65 years CRBS has provided blood products and services to Pierce and South King County hospitals and clinics\, including Good Samaritan Hospital. We are proud to be your community blood center! \nBefore you donate\, be sure to eat well and drink plenty of non-caffeinated beverages. \n\nBRING PHOTO ID.
X-ALT-DESC;FMTTYPE=text/html:<p><span>GIVE BLOOD SAVE LIVES </span></p>\n\n<p><span>Cascade Regional Blood Services is committed to serving the residents of East Pierce County. For over 65 years CRBS has provided blood products and services to Pierce and South King County hospitals and clinics\, including Good Samaritan Hospital. We are proud to be your community blood center! </span></p>\n<span>Before you donate\, be sure to eat well and drink plenty of non-caffeinated beverages. </span>\n\n<p><span>BRING PHOTO ID.</span></p>\n
LOCATION:Celebration Lutheran Church 2500 Shaw Road\, Puyallup\, WA
UID:e.101.6769
SEQUENCE:3
DTSTAMP:20260424T080811Z
URL:https://business.puyallupsumnerchamber.com/events/details/blood-drive-at-celebration-lutheran-church-09-27-2015-6769
END:VEVENT

END:VCALENDAR
