BEGIN:VCALENDAR
VERSION:2.0
PRODID:-//ChamberMaster//Event Calendar 2.0//EN
METHOD:PUBLISH
X-PUBLISHED-TTL:P3D
REFRESH-INTERVAL:P3D
CALSCALE:GREGORIAN
BEGIN:VEVENT
DTSTART:20150914T180000Z
DTEND:20150914T220000Z
X-MICROSOFT-CDO-ALLDAYEVENT:FALSE
SUMMARY:Blood Drive at Costco - Puyallup
DESCRIPTION:GIVE BLOOD SAVE LIVES Cascade Regional Blood Services is committed to serving the residents of East Pierce County. For over 65 years CRBS has provided blood products and services to Pierce and South King County hospitals and clinics\, including Good Samaritan Hospital. We are proud to be your community blood center!\n\n\n\nBefore you donate\, be sure to eat well and drink plenty of non-caffeinated beverages. BRING PHOTO ID.
X-ALT-DESC;FMTTYPE=text/html:<p>GIVE BLOOD SAVE LIVES Cascade Regional Blood Services is committed to serving the residents of East Pierce County. For over 65 years CRBS has provided blood products and services to Pierce and South King County hospitals and clinics\, including Good Samaritan Hospital. We are proud to be your community blood center!<br />\n<br />\nBefore you donate\, be sure to eat well and drink plenty of non-caffeinated beverages. BRING PHOTO ID.</p>\n
LOCATION:1201 39th Ave SW\, Puyallup\, WA 98373
UID:e.101.6767
SEQUENCE:3
DTSTAMP:20260424T080142Z
URL:https://business.puyallupsumnerchamber.com/events/details/blood-drive-at-costco-puyallup-09-14-2015-6767
END:VEVENT

END:VCALENDAR
