BEGIN:VCALENDAR
VERSION:2.0
PRODID:-//ChamberMaster//Event Calendar 2.0//EN
METHOD:PUBLISH
X-PUBLISHED-TTL:P3D
REFRESH-INTERVAL:P3D
CALSCALE:GREGORIAN
BEGIN:VEVENT
DTSTART:20150616T170000Z
DTEND:20150616T220000Z
X-MICROSOFT-CDO-ALLDAYEVENT:FALSE
SUMMARY:Blood Drive at Fred Meyer\, South Hill
DESCRIPTION:GIVE BLOOD SAVE LIVES \n\nCascade Regional Blood Services is committed to serving the residents of East Pierce County. For over 65 years CRBS has provided blood products and services to Pierce and South King County hospitals and clinics\, including Good Samaritan Hospital. We are proud to be your community blood center! \nBefore you donate\, be sure to eat well and drink plenty of non-caffeinated beverages. \n\nBRING PHOTO ID.
X-ALT-DESC;FMTTYPE=text/html:<p class="MsoNormal"><span arial="" style="font-family:\;">GIVE BLOOD SAVE LIVES </span></p>\n\n<p class="MsoNormal"><span arial="" style="font-family:\;">Cascade Regional Blood Services is committed to serving the residents of East Pierce County. For over 65 years CRBS has provided blood products and services to Pierce and South King County hospitals and clinics\, including Good Samaritan Hospital. We are proud to be your community blood center! </span></p>\n<span arial="" style="font-family:\;">Before you donate\, be sure to eat well and drink plenty of non-caffeinated beverages. </span>\n\n<p class="MsoNormal"><span arial="" style="font-family:\;">BRING PHOTO ID.</span></p>\n
LOCATION:
UID:e.101.3456
SEQUENCE:3
DTSTAMP:20260424T121400Z
URL:https://business.puyallupsumnerchamber.com/events/details/blood-drive-at-fred-meyer-south-hill-06-16-2015-3456
END:VEVENT

END:VCALENDAR
