BEGIN:VCALENDAR
VERSION:2.0
PRODID:-//ChamberMaster//Event Calendar 2.0//EN
METHOD:PUBLISH
X-PUBLISHED-TTL:P3D
REFRESH-INTERVAL:P3D
CALSCALE:GREGORIAN
BEGIN:VEVENT
DTSTART:20180910T170000Z
DTEND:20180910T220000Z
X-MICROSOFT-CDO-ALLDAYEVENT:FALSE
SUMMARY:Blood Drive at Good Samaritan Hospital
DESCRIPTION:GIVE BLOOD SAVE LIVES!\n\n\n\nCascade Regional Blood Services\, your community blood center since 1946\, is the sole provider of blood products to MultiCare Health Systems.  We also support additional area hospitals and medical centers as requested.  We have three donor centers   Tacoma\, Puyallup\, and Federal Way   and conduct over 1\,000 blood drives a year in Pierce and South King Counties.\n\n\n\nBefore you donate\, be sure to eat well and drink plenty of non-caffeinated beverages. BRING PHOTO ID!
X-ALT-DESC;FMTTYPE=text/html:GIVE BLOOD SAVE LIVES!<br />\n<br />\nCascade Regional Blood Services\, your community blood center since 1946\, is the sole provider of blood products to MultiCare Health Systems.&nbsp\; We also support additional area hospitals and medical centers as requested.&nbsp\; We have three donor centers &ndash\; Tacoma\, Puyallup\, and Federal Way &ndash\; and conduct over 1\,000 blood drives a year in Pierce and South King Counties.<br />\n<br />\nBefore you donate\, be sure to eat well and drink plenty of non-caffeinated beverages. BRING PHOTO ID!
LOCATION:Good Samaritan Hospital in 2 River Lobby 407 14th Ave E Puyallup\, WA 98372
UID:e.101.9368
SEQUENCE:3
DTSTAMP:20260423T085422Z
URL:https://business.puyallupsumnerchamber.com/events/details/blood-drive-at-good-samaritan-hospital-09-10-2018-9368
END:VEVENT

END:VCALENDAR
