BEGIN:VCALENDAR
VERSION:2.0
PRODID:-//ChamberMaster//Event Calendar 2.0//EN
METHOD:PUBLISH
X-PUBLISHED-TTL:P3D
REFRESH-INTERVAL:P3D
CALSCALE:GREGORIAN
BEGIN:VEVENT
DTSTART:20160820T170000Z
DTEND:20160820T210000Z
X-MICROSOFT-CDO-ALLDAYEVENT:FALSE
SUMMARY:Blood Drive at Hounds on the Hill sponsored by South Hill Rotary
DESCRIPTION:GIVE BLOOD SAVE LIVES \n\nCascade Regional Blood Services is committed to serving the residents of East Pierce County. For 70 years CRBS has provided blood products and services to Pierce and South King County hospitals and clinics\, including Good Samaritan Hospital. We are proud to be your community blood center! \n\nBefore you donate\, be sure to eat well and drink plenty of non-caffeinated beverages. BRING PHOTO ID.
X-ALT-DESC;FMTTYPE=text/html:<p><span>GIVE BLOOD SAVE LIVES </span></p>\n\n<p><span>Cascade Regional Blood Services is committed to serving the residents of East Pierce County. For 70 years CRBS has provided blood products and services to Pierce and South King County hospitals and clinics\, including Good Samaritan Hospital. We are proud to be your community blood center! </span></p>\n\n<p><span>Before you donate\, be sure to eat well and drink plenty of non-caffeinated beverages. </span><span>BRING PHOTO ID. </span></p>\n
LOCATION:Bradley Lake Park
UID:e.101.8414
SEQUENCE:3
DTSTAMP:20260423T154435Z
URL:https://business.puyallupsumnerchamber.com/events/details/blood-drive-at-hounds-on-the-hill-sponsored-by-south-hill-rotary-08-20-2016-8414
END:VEVENT

END:VCALENDAR
