BEGIN:VCALENDAR
VERSION:2.0
PRODID:-//ChamberMaster//Event Calendar 2.0//EN
METHOD:PUBLISH
X-PUBLISHED-TTL:P3D
REFRESH-INTERVAL:P3D
CALSCALE:GREGORIAN
BEGIN:VEVENT
DTSTART:20150616T170000Z
DTEND:20150616T220000Z
X-MICROSOFT-CDO-ALLDAYEVENT:FALSE
SUMMARY:Blood Drive at John L. Scott
DESCRIPTION:GIVE BLOOD SAVE LIVES Cascade Regional Blood Services is committed to serving the residents of East Pierce County. For over 65 years CRBS has provided blood products and services to Pierce and South King County hospitals and trauma centers\, including Good Samaritan Hospital. We are proud to be your community blood center! Before you donate\, be sure to eat a hearty breakfast\, drink plenty of fluids and avoid caffeine. BRING PHOTO ID.
X-ALT-DESC;FMTTYPE=text/html:GIVE BLOOD SAVE LIVES Cascade Regional Blood Services is committed to serving the residents of East Pierce County. For over 65 years CRBS has provided blood products and services to Pierce and South King County hospitals and trauma centers\, including Good Samaritan Hospital. We are proud to be your community blood center! Before you donate\, be sure to eat a hearty breakfast\, drink plenty of fluids and avoid caffeine. BRING PHOTO ID.
LOCATION:
UID:e.101.3312
SEQUENCE:3
DTSTAMP:20260424T121315Z
URL:https://business.puyallupsumnerchamber.com/events/details/blood-drive-at-john-l-scott-06-16-2015-3312
END:VEVENT

END:VCALENDAR
