BEGIN:VCALENDAR
VERSION:2.0
PRODID:-//ChamberMaster//Event Calendar 2.0//EN
METHOD:PUBLISH
X-PUBLISHED-TTL:P3D
REFRESH-INTERVAL:P3D
CALSCALE:GREGORIAN
BEGIN:VEVENT
DTSTART:20160729T173000Z
DTEND:20160729T223000Z
X-MICROSOFT-CDO-ALLDAYEVENT:FALSE
SUMMARY:Blood Drive at Korum Ford-Lincoln
DESCRIPTION:GIVE BLOOD SAVE LIVES Cascade Regional Blood Services is committed to serving the residents of East Pierce County. For over 65 years CRBS has provided blood products and services to Pierce and South King County hospitals and trauma centers\, including Good Samaritan Hospital. We are proud to be your community blood center! Before you donate\, be sure to eat well and drink plenty of non-caffeinated beverages. BRING PHOTO ID.
X-ALT-DESC;FMTTYPE=text/html:<p>GIVE BLOOD SAVE LIVES Cascade Regional Blood Services is committed to serving the residents of East Pierce County. For over 65 years CRBS has provided blood products and services to Pierce and South King County hospitals and trauma centers\, including Good Samaritan Hospital. We are proud to be your community blood center! Before you donate\, be sure to eat well and drink plenty of non-caffeinated beverages. BRING PHOTO ID.</p>\n
LOCATION:Korum Ford-Lincoln 100 River Road\, Puyallup
UID:e.101.8399
SEQUENCE:3
DTSTAMP:20260423T185004Z
URL:https://business.puyallupsumnerchamber.com/events/details/blood-drive-at-korum-ford-lincoln-07-29-2016-8399
END:VEVENT

END:VCALENDAR
