BEGIN:VCALENDAR
VERSION:2.0
PRODID:-//ChamberMaster//Event Calendar 2.0//EN
METHOD:PUBLISH
X-PUBLISHED-TTL:P3D
REFRESH-INTERVAL:P3D
CALSCALE:GREGORIAN
BEGIN:VEVENT
DTSTART:20180505T160000Z
DTEND:20180505T210000Z
X-MICROSOFT-CDO-ALLDAYEVENT:FALSE
SUMMARY:Blood Drive at Light Dental Studios of Puyallup
DESCRIPTION:GIVE BLOOD SAVE LIVES!\n\n\n\nCascade Regional Blood Services\, your community blood center since 1946\, is the sole provider of blood products to MultiCare Health Systems.  We also support additional area hospitals and medical centers as requested.  We have three donor centers   Tacoma\, Puyallup\, and Federal Way   and conduct over 1\,000 blood drives a year in Pierce and South King Counties.\n\n\n\nBefore you donate\, be sure to eat well and drink plenty of non-caffeinated beverages. BRING PHOTO ID!
X-ALT-DESC;FMTTYPE=text/html:<span style="font-size:10pt"><span style="font-family:arial\,sans-serif"><span style="color:rgb(51\, 51\, 51)">GIVE BLOOD SAVE LIVES!</span></span></span><br />\n<br />\n<span style="font-size:10pt"><span style="font-family:arial\,sans-serif"><span style="color:rgb(34\, 34\, 34)">Cascade Regional Blood Services\, your community blood center since 1946\, is the sole provider of blood products to MultiCare Health Systems.&nbsp\; We also support additional area hospitals and medical centers as requested.&nbsp\; We have three donor centers &ndash\; Tacoma\, Puyallup\, and Federal Way &ndash\; and conduct over 1\,000 blood drives a year in Pierce and South King Counties.</span></span></span><br />\n<br />\n<span style="font-size:10pt"><span style="font-family:arial\,sans-serif"><span style="color:rgb(51\, 51\, 51)">Before you donate\, be sure to eat well and drink plenty of non-caffeinated beverages. BRING PHOTO ID!</span></span></span>
LOCATION:Light Dental Studios of Puyallup 8012 112th St Ct E #320 Puyallup\, WA 98373
UID:e.101.8938
SEQUENCE:3
DTSTAMP:20260423T085657Z
URL:https://business.puyallupsumnerchamber.com/events/details/blood-drive-at-light-dental-studios-of-puyallup-05-05-2018-8938
END:VEVENT

END:VCALENDAR
