BEGIN:VCALENDAR
VERSION:2.0
PRODID:-//ChamberMaster//Event Calendar 2.0//EN
METHOD:PUBLISH
X-PUBLISHED-TTL:P3D
REFRESH-INTERVAL:P3D
CALSCALE:GREGORIAN
BEGIN:VEVENT
DTSTART:20160814T150000Z
DTEND:20160814T210000Z
X-MICROSOFT-CDO-ALLDAYEVENT:FALSE
SUMMARY:Blood Drive at Lighthouse Christian Center
DESCRIPTION:GIVE BLOOD SAVE LIVES\n\nCascade Regional Blood Services is committed to serving the residents of East Pierce County. For 70 years\, CRBS has provided blood products and services to Pierce and South King County hospitals and clinics\, including Good Samaritan Hospital. We are proud to be your community blood center!\n\nBefore you donate\, be sure to eat well and drink plenty of non-caffeinated beverages. BRING PHOTO ID.
X-ALT-DESC;FMTTYPE=text/html:<p>GIVE BLOOD SAVE LIVES</p>\n\n<p>Cascade Regional Blood Services is committed to serving the residents of East Pierce County. For 70 years\, CRBS has provided blood products and services to Pierce and South King County hospitals and clinics\, including Good Samaritan Hospital. We are proud to be your community blood center!</p>\n\n<p><span style="line-height:1.6">Before you donate\, be sure to eat well and drink plenty of non-caffeinated beverages. BRING PHOTO ID.</span></p>\n
LOCATION:Lighthouse Christian Center 3409 23rd St SW\, Puyallup
UID:e.101.8410
SEQUENCE:3
DTSTAMP:20260423T171111Z
URL:https://business.puyallupsumnerchamber.com/events/details/blood-drive-at-lighthouse-christian-center-08-14-2016-8410
END:VEVENT

END:VCALENDAR
