BEGIN:VCALENDAR
VERSION:2.0
PRODID:-//ChamberMaster//Event Calendar 2.0//EN
METHOD:PUBLISH
X-PUBLISHED-TTL:P3D
REFRESH-INTERVAL:P3D
CALSCALE:GREGORIAN
BEGIN:VEVENT
DTSTART:20151008T150000Z
DTEND:20151008T183000Z
X-MICROSOFT-CDO-ALLDAYEVENT:FALSE
SUMMARY:Blood Drive at Parametrix
DESCRIPTION:GIVE BLOOD SAVE LIVES\n\nCascade Regional Blood Services is committed to serving the residents of East Pierce County. For over 65 years CRBS has provided blood products and services to Pierce and South King County hospitals and trauma centers\, including Good Samaritan Hospital. We are proud to be your community blood center!  Before you donate\, be sure to eat well and drink plenty of non-caffeinated beverages.\n\nBRING PHOTO ID.
X-ALT-DESC;FMTTYPE=text/html:<p>GIVE BLOOD SAVE LIVES</p>\n\n<p>Cascade Regional Blood Services is committed to serving the residents of East Pierce County. For over 65 years CRBS has provided blood products and services to Pierce and South King County hospitals and trauma centers\, including Good Samaritan Hospital. We are proud to be your community blood center!&nbsp\; Before you donate\, be sure to eat well and drink plenty of non-caffeinated beverages.</p>\n\n<p>BRING PHOTO ID.</p>\n\n<p><br />\n&nbsp\;</p>\n
LOCATION:PARAMETRIX 1019 39th Ave SE\, Suite 100\, Puyallup
UID:e.101.4196
SEQUENCE:3
DTSTAMP:20260424T062710Z
URL:https://business.puyallupsumnerchamber.com/events/details/blood-drive-at-parametrix-10-08-2015-4196
END:VEVENT

END:VCALENDAR
