BEGIN:VCALENDAR
VERSION:2.0
PRODID:-//ChamberMaster//Event Calendar 2.0//EN
METHOD:PUBLISH
X-PUBLISHED-TTL:P3D
REFRESH-INTERVAL:P3D
CALSCALE:GREGORIAN
BEGIN:VEVENT
DTSTART:20150627T210000Z
DTEND:20150628T030000Z
X-MICROSOFT-CDO-ALLDAYEVENT:FALSE
SUMMARY:Blood Drive at Relay for Life of Puyallup
DESCRIPTION:GIVE BLOOD SAVE LIVES\n\nCascade Regional Blood Services is committed to serving the residents of East Pierce County. For over 65 years CRBS has provided blood products and services to Pierce and South King County hospitals and clinics\, including MultiCare Good Samaritan Hospital. We are proud to be your community blood center!\n\nBefore you donate\, be sure to eat well and drink plenty of non-caffeinated beverages.  BRING PHOTO ID.
X-ALT-DESC;FMTTYPE=text/html:<p class="MsoNormal"><span arial="" style="font-family:\;">GIVE BLOOD SAVE LIVES</span><br />\n<span style="font-family: &quot\;Arial Narrow&quot\;\, sans-serif\;">Cascade Regional Blood Services is committed to serving the residents of East Pierce County. For over 65 years CRBS has provided blood products and services to Pierce and South King County hospitals and clinics\, including MultiCare Good Samaritan Hospital. We are proud to be your community blood center!</span><br />\n<span style="font-family: &quot\;Arial Narrow&quot\;\, sans-serif\;">Before you donate\, be sure to eat well and drink plenty of non-caffeinated beverages. &nbsp\;</span><span style="font-family: &quot\;Arial Narrow&quot\;\, sans-serif\;">BRING PHOTO ID.</span></p>\n
LOCATION:Sparks Stadium
UID:e.101.3478
SEQUENCE:3
DTSTAMP:20260424T123137Z
URL:https://business.puyallupsumnerchamber.com/events/details/blood-drive-at-relay-for-life-of-puyallup-06-27-2015-3478
END:VEVENT

END:VCALENDAR
