BEGIN:VCALENDAR
VERSION:2.0
PRODID:-//ChamberMaster//Event Calendar 2.0//EN
METHOD:PUBLISH
X-PUBLISHED-TTL:P3D
REFRESH-INTERVAL:P3D
CALSCALE:GREGORIAN
BEGIN:VEVENT
DTSTART:20160723T013000Z
DTEND:20160723T053000Z
X-MICROSOFT-CDO-ALLDAYEVENT:FALSE
SUMMARY:Blood Drive at Relay for Life of Sumner/Bonney Lake
DESCRIPTION:GIVE BLOOD SAVE LIVES Cascade Regional Blood Services is committed to serving the residents of East Pierce County. For over 65 years CRBS has provided blood products and services to Pierce and South King County hospitals and trauma centers\, including Good Samaritan Hospital. We are proud to be your community blood center!\n\n\n\nBefore you donate\, be sure to eat well and drink plenty of non-caffeinated beverages. BRING PHOTO ID.
X-ALT-DESC;FMTTYPE=text/html:<p>GIVE BLOOD SAVE LIVES Cascade Regional Blood Services is committed to serving the residents of East Pierce County. For over 65 years CRBS has provided blood products and services to Pierce and South King County hospitals and trauma centers\, including Good Samaritan Hospital. We are proud to be your community blood center!<br />\n<br />\nBefore you donate\, be sure to eat well and drink plenty of non-caffeinated beverages. BRING PHOTO ID.</p>\n
LOCATION:Sunset Stadium
UID:e.101.8404
SEQUENCE:3
DTSTAMP:20260423T171646Z
URL:https://business.puyallupsumnerchamber.com/events/details/blood-drive-at-relay-for-life-of-sumner-bonney-lake-07-22-2016-8404
END:VEVENT

END:VCALENDAR
