BEGIN:VCALENDAR
VERSION:2.0
PRODID:-//ChamberMaster//Event Calendar 2.0//EN
METHOD:PUBLISH
X-PUBLISHED-TTL:P3D
REFRESH-INTERVAL:P3D
CALSCALE:GREGORIAN
BEGIN:VEVENT
DTSTART:20180818T170000Z
DTEND:20180818T210000Z
X-MICROSOFT-CDO-ALLDAYEVENT:FALSE
SUMMARY:Blood Drive at South Hill Rotary
DESCRIPTION:GIVE BLOOD SAVE LIVES!   \n\nSponsored by South Hill Rotary Club\n\n\n\nCascade Regional Blood Services\, your community blood center since 1946\, is the sole provider of blood products to MultiCare Health Systems.  We also support additional area hospitals and medical centers as requested.  We have three donor centers   Tacoma\, Puyallup\, and Federal Way   and conduct over 1\,000 blood drives a year in Pierce and South King Counties.\n\n\n\nBefore you donate\, be sure to eat well and drink plenty of non-caffeinated beverages. BRING PHOTO ID!
X-ALT-DESC;FMTTYPE=text/html:<span style="color:#333333"><span style="font-family:arial\,sans-serif"><span style="font-size:10.0pt">GIVE BLOOD SAVE LIVES!&nbsp\; &nbsp\;<br />\nSponsored by South Hill Rotary Club</span></span></span><br />\n<br />\n<span style="color:#222222"><span style="font-family:arial\,sans-serif"><span style="font-size:10.0pt">Cascade Regional Blood Services\, your community blood center since 1946\, is the sole provider of blood products to MultiCare Health Systems.&nbsp\; We also support additional area hospitals and medical centers as requested.&nbsp\; We have three donor centers &ndash\; Tacoma\, Puyallup\, and Federal Way &ndash\; and conduct over 1\,000 blood drives a year in Pierce and South King Counties.</span></span></span><br />\n<br />\n<span style="color:#333333"><span style="font-family:arial\,sans-serif"><span style="font-size:10.0pt">Before you donate\, be sure to eat well and drink plenty of non-caffeinated beverages. BRING PHOTO ID!</span></span></span><br />\n&nbsp\;
LOCATION:Sponsor: South Hill Rotary Club Bradley Lake Park 531 31st Ave SE Puyallup\, WA 98374
UID:e.101.9150
SEQUENCE:3
DTSTAMP:20260421T133509Z
URL:https://business.puyallupsumnerchamber.com/events/details/blood-drive-at-south-hill-rotary-9150
END:VEVENT

END:VCALENDAR
