BEGIN:VCALENDAR
VERSION:2.0
PRODID:-//ChamberMaster//Event Calendar 2.0//EN
METHOD:PUBLISH
X-PUBLISHED-TTL:P3D
REFRESH-INTERVAL:P3D
CALSCALE:GREGORIAN
BEGIN:VEVENT
DTSTART:20150701T010000Z
DTEND:20150701T040000Z
X-MICROSOFT-CDO-ALLDAYEVENT:FALSE
SUMMARY:Blood Drive - LDS Church\, Puyallup South Stake Center
DESCRIPTION:GIVE BLOOD SAVE LIVES \n\nCascade Regional Blood Services is committed to serving the residents of East Pierce County. For over 65 years CRBS has provided blood products and services to Pierce and South King County hospitals and clinics\, including Good Samaritan Hospital. We are proud to be your community blood center! \n\n \n\nBefore you donate\, be sure to eat well and drink plenty of non-caffeinated beverages. BRING PHOTO ID.
X-ALT-DESC;FMTTYPE=text/html:<p class="MsoNormal" style="margin: 0in 0in 0pt\;"><font size="3"><font color="#000000">GIVE BLOOD SAVE LIVES </font></font></p>\n\n<p class="MsoNormal" style="margin: 0in 0in 0pt\;"><font size="3"><font color="#000000">Cascade Regional Blood Services is committed to serving the residents of East Pierce County. For over 65 years CRBS has provided blood products and services to Pierce and South King County hospitals and clinics\, including Good Samaritan Hospital. We are proud to be your community blood center! </font></font></p>\n\n<p class="MsoNormal" style="margin: 0in 0in 0pt\;"><font color="#000000" size="3">&nbsp\;</font></p>\n\n<p class="MsoNormal" style="margin: 0in 0in 0pt\;"><font size="3"><font color="#000000">Before you donate\, be sure to eat well and drink plenty of non-caffeinated beverages. BRING PHOTO ID.</font></font></p>\n
LOCATION:
UID:e.101.3530
SEQUENCE:3
DTSTAMP:20260424T121942Z
URL:https://business.puyallupsumnerchamber.com/events/details/blood-drive-lds-church-puyallup-south-stake-center-06-30-2015-3530
END:VEVENT

END:VCALENDAR
