BEGIN:VCALENDAR
VERSION:2.0
PRODID:-//ChamberMaster//Event Calendar 2.0//EN
METHOD:PUBLISH
X-PUBLISHED-TTL:P3D
REFRESH-INTERVAL:P3D
CALSCALE:GREGORIAN
BEGIN:VEVENT
DTSTART:20181113T160000Z
DTEND:20181113T170000Z
X-MICROSOFT-CDO-ALLDAYEVENT:FALSE
SUMMARY:BLUE Review: F45 Fitness Training with James Beauchampt
DESCRIPTION:The Chamber Ambassadors\, as a group\, make special calls on businesses of interest throughout the year by scheduling what are known as Blue Reviews. The group tours specific businesses with a goal of learning how the Chamber can support the host business\, it's unique services and/or products\, and how the Ambassadors can further support them via referrals.
X-ALT-DESC;FMTTYPE=text/html:<span style="color: rgb(55\, 55\, 55)\; font-family: &quot\;Open Sans&quot\;\, &quot\;Helvetica Neue&quot\;\, Helvetica\, Arial\, sans-serif\; font-size: 15px\;">The Chamber Ambassadors\, as a group\, make special calls on businesses of interest throughout the year by scheduling what are known as Blue Reviews. The group tours specific businesses with a goal of learning how the Chamber can support the host business\, it&rsquo\;s unique services and/or products\, and how the Ambassadors can further support them via referrals.&nbsp\;</span>
LOCATION:13103 Meridian Ave E Puyallup\, WA 98375
UID:e.101.9596
SEQUENCE:3
DTSTAMP:20260421T071501Z
URL:https://business.puyallupsumnerchamber.com/events/details/blue-review-f45-fitness-training-with-james-beauchampt-9596
END:VEVENT

END:VCALENDAR
