BEGIN:VCALENDAR
VERSION:2.0
PRODID:-//ChamberMaster//Event Calendar 2.0//EN
METHOD:PUBLISH
X-PUBLISHED-TTL:P3D
REFRESH-INTERVAL:P3D
CALSCALE:GREGORIAN
BEGIN:VEVENT
DTSTART:20151003T210000Z
DTEND:20151004T000000Z
X-MICROSOFT-CDO-ALLDAYEVENT:FALSE
SUMMARY:Boo Dash 5K Family Fun Run At Wild Waves Theme Park
DESCRIPTION:Mark your calendars for Saturday\, October 3\, and join us at the park for the for the American Cancer Society BOO DASH 5k Fun Run! Grab your best costume and prepare for this frightfully FUN\, family-friendly 5k dash to benefit breast cancer research. Dash through the park before the gates open to the general public. REGISTRATION OPENS: 2PM RACE BEGINS AT 3PM Boo Dash pricing includes race registration and bib\, admission to Fright Fest (after the race concludes)\, glow-in-the-dark participation medal\, and access to the EXCLUSIVE post-race party featuring DJs\, local food trucks\, and MORE! Not interested in running? Support your friends and family by joining in on the fun ? discount admission tickets are available! Discounted Boo Dash tickets include admission to Wild Waves Theme Park Fright Fest and access to the exclusive post-race party. Don?t miss out on this spooktacular event ? register today!
X-ALT-DESC;FMTTYPE=text/html:Mark your calendars for Saturday\, October 3\, and join us at the park for the for the American Cancer Society BOO DASH 5k Fun Run! Grab your best costume and prepare for this frightfully FUN\, family-friendly 5k dash to benefit breast cancer research. Dash through the park before the gates open to the general public. REGISTRATION OPENS: 2PM RACE BEGINS AT 3PM Boo Dash pricing includes race registration and bib\, admission to Fright Fest (after the race concludes)\, glow-in-the-dark participation medal\, and access to the EXCLUSIVE post-race party featuring DJs\, local food trucks\, and MORE! Not interested in running? Support your friends and family by joining in on the fun ? discount admission tickets are available! Discounted Boo Dash tickets include admission to Wild Waves Theme Park Fright Fest and access to the exclusive post-race party. Don?t miss out on this spooktacular event ? register today!
LOCATION:Wild Waves Theme Park 36201 Enchanted Parkway Federal Way\, WA 98003
UID:e.101.6778
SEQUENCE:3
DTSTAMP:20260424T075700Z
URL:https://business.puyallupsumnerchamber.com/events/details/boo-dash-5k-family-fun-run-at-wild-waves-theme-park-10-03-2015-6778
END:VEVENT

END:VCALENDAR
