BEGIN:VCALENDAR
VERSION:2.0
PRODID:-//ChamberMaster//Event Calendar 2.0//EN
METHOD:PUBLISH
X-PUBLISHED-TTL:P3D
REFRESH-INTERVAL:P3D
CALSCALE:GREGORIAN
BEGIN:VEVENT
DTSTART:20180127T030000Z
DTEND:20180127T050000Z
X-MICROSOFT-CDO-ALLDAYEVENT:FALSE
SUMMARY:Brawl at the Mall
DESCRIPTION:Come out and support Rogers High School Rams Wrestling Team as they compete against Kentridge High School. Bring your canned food to help the Puyallup Food Bank restock after the holidays.
X-ALT-DESC;FMTTYPE=text/html:<span style="color:rgb(0\, 0\, 0)\; font-family:lucida sans unicode\,lucida grande\,sans-serif\; font-size:12px">Come out and support Rogers High School Rams Wrestling Team as they compete against Kentridge High School. Bring your canned food to help the Puyallup Food Bank restock after the holidays.</span>
LOCATION:South Hill Mall Center Court
UID:e.101.8826
SEQUENCE:3
DTSTAMP:20260421T020102Z
URL:https://business.puyallupsumnerchamber.com/events/details/brawl-at-the-mall-01-26-2018-8826
END:VEVENT

END:VCALENDAR
