BEGIN:VCALENDAR
VERSION:2.0
PRODID:-//ChamberMaster//Event Calendar 2.0//EN
METHOD:PUBLISH
X-PUBLISHED-TTL:P3D
REFRESH-INTERVAL:P3D
CALSCALE:GREGORIAN
BEGIN:VEVENT
DTSTART:20180425T190000Z
DTEND:20180425T200000Z
X-MICROSOFT-CDO-ALLDAYEVENT:FALSE
SUMMARY:Business 101 - How to Write a Business Plan
DESCRIPTION:Our own Dave Robbs of Poyeho Project will be showing us the way to take the information we have been gathering in this course and combine it into a viable business plan. \n\n\n\n*Returning Students Homework: Bring basic business research\, strategic planning info\, and product pricing info for your business that we worked on in the previous three classes. Make sure you have at least a little bit of each completed for class.
X-ALT-DESC;FMTTYPE=text/html:<br />\nOur own Dave Robbs of Poyeho Project will be showing us the way to take the information we have been gathering in this course and combine it into a viable business plan.&nbsp\;<br />\n<br />\n*Returning Students Homework: Bring basic business research\, strategic planning info\, and product pricing info for your business that we worked on in the previous three classes. Make sure you have at least a little bit of each completed for class.&nbsp\;&nbsp\;
LOCATION:Puyallup Public Library 324 S Meridian Puyallup\, WA 98371
UID:e.101.8914
SEQUENCE:3
DTSTAMP:20260421T070726Z
URL:https://business.puyallupsumnerchamber.com/events/details/business-101-how-to-write-a-business-plan-04-25-2018-8914
END:VEVENT

END:VCALENDAR
