BEGIN:VCALENDAR
VERSION:2.0
PRODID:-//ChamberMaster//Event Calendar 2.0//EN
METHOD:PUBLISH
X-PUBLISHED-TTL:P3D
REFRESH-INTERVAL:P3D
CALSCALE:GREGORIAN
BEGIN:VEVENT
DTSTART:20180523T190000Z
DTEND:20180523T200000Z
X-MICROSOFT-CDO-ALLDAYEVENT:FALSE
SUMMARY:Business 101- Marketing Preliminary
DESCRIPTION:As we enter the marketing series\, we'll start off with a primer on the various marketing channels and how to choose the right mix for your business.  Speaker Sarah Joy will be sharing some of her best tricks on how to determine what will produce the ROI you're looking for.
X-ALT-DESC;FMTTYPE=text/html:<p dir="ltr" id="docs-internal-guid-375d8442-c1f8-0634-9cc2-1c08ef8dd668" style="line-height:1.38\;margin-top:0pt\;margin-bottom:0pt\;"><font color="#666666" face="Roboto"><span style="font-size: 20px\; white-space: pre-wrap\;">As we enter the marketing series\, we&#39\;ll start off with a primer on the various marketing channels and how to choose the right mix for your business. &nbsp\;Speaker Sarah Joy will be sharing some of her best tricks on how to determine what will produce the ROI you&#39\;re looking for. </span></font></p>\n
LOCATION:Puyallup Public Library 324 S Meridian Puyallup\, WA 98371
UID:e.101.8927
SEQUENCE:3
DTSTAMP:20260421T091245Z
URL:https://business.puyallupsumnerchamber.com/events/details/business-101-marketing-preliminary-05-23-2018-8927
END:VEVENT

END:VCALENDAR
