BEGIN:VCALENDAR
VERSION:2.0
PRODID:-//ChamberMaster//Event Calendar 2.0//EN
METHOD:PUBLISH
X-PUBLISHED-TTL:P3D
REFRESH-INTERVAL:P3D
CALSCALE:GREGORIAN
BEGIN:VEVENT
DTSTART:20180328T190000Z
DTEND:20180328T200000Z
X-MICROSOFT-CDO-ALLDAYEVENT:FALSE
SUMMARY:Business 101 - Pricing Models for a Successful Business
DESCRIPTION:The Small Business Association will be joining us to deliver an in depth discussion on product and service pricing. \n\n\n\nCourse Objectives \n\n1.Define pricing.\n\n2.Explain how costs affect pricing.\n\n3.Describe pricing as a component of the marketing mix.\n\n4.Identify pricing objectives.\n\n5.Describe pricing strategies in relation to sales promotion.\n\n6.Explain the three general pricing models for small business.\n\n7.Identify common pricing mistakes.\n\n8.Recall the legal issues involved in antitrust actions\, loss leader pricing\, and pricediscrimination
X-ALT-DESC;FMTTYPE=text/html:<br />\nThe Small Business Association will be joining us to deliver an in depth discussion on product and service pricing.&nbsp\;<br />\n<br />\nCourse Objectives&nbsp\;<br />\n1.Define pricing.<br />\n2.Explain how costs affect pricing.<br />\n3.Describe pricing as a component of the marketing mix.<br />\n4.Identify pricing objectives.<br />\n5.Describe pricing strategies in relation to sales promotion.<br />\n6.Explain the three general pricing models for small business.<br />\n7.Identify common pricing mistakes.<br />\n8.Recall the legal issues involved in antitrust actions\, loss leader pricing\, and pricediscrimination
LOCATION:Puyallup Public Library 324 S Meridian Puyallup\, WA 98371
UID:e.101.8913
SEQUENCE:3
DTSTAMP:20260421T052145Z
URL:https://business.puyallupsumnerchamber.com/events/details/business-101-pricing-models-for-a-successful-business-03-28-2018-8913
END:VEVENT

END:VCALENDAR
