BEGIN:VCALENDAR
VERSION:2.0
PRODID:-//ChamberMaster//Event Calendar 2.0//EN
METHOD:PUBLISH
X-PUBLISHED-TTL:P3D
REFRESH-INTERVAL:P3D
CALSCALE:GREGORIAN
BEGIN:VEVENT
DTSTART:20140418T000000Z
DTEND:20140418T020000Z
X-MICROSOFT-CDO-ALLDAYEVENT:FALSE
SUMMARY:Business After Hours
DESCRIPTION:Business After Hours hosted by Impressive Signs & Graphics
X-ALT-DESC;FMTTYPE=text/html:Business After Hours hosted by Impressive Signs &amp\; Graphics
LOCATION:2615 E. Main Ave. Puyallup\, 98372
UID:e.101.6479
SEQUENCE:3
DTSTAMP:20260425T105518Z
URL:https://business.puyallupsumnerchamber.com/events/details/business-after-hours-04-17-2014-6479
END:VEVENT

END:VCALENDAR
