BEGIN:VCALENDAR
VERSION:2.0
PRODID:-//ChamberMaster//Event Calendar 2.0//EN
METHOD:PUBLISH
X-PUBLISHED-TTL:P3D
REFRESH-INTERVAL:P3D
CALSCALE:GREGORIAN
BEGIN:VEVENT
DTSTART:20141017T003000Z
DTEND:20141017T023000Z
X-MICROSOFT-CDO-ALLDAYEVENT:FALSE
SUMMARY:Business After Hours
DESCRIPTION:Business After Hours
X-ALT-DESC;FMTTYPE=text/html:<div style="text-align: center\;"><span style="font-size:14px\;"><strong>Business After Hours</strong></span></div>\n
LOCATION:Hosted by: 16024 60th Street East\, Sumner\, WA
UID:e.101.6473
SEQUENCE:3
DTSTAMP:20260425T025439Z
URL:https://business.puyallupsumnerchamber.com/events/details/business-after-hours-10-16-2014-6473
END:VEVENT

END:VCALENDAR
