BEGIN:VCALENDAR
VERSION:2.0
PRODID:-//ChamberMaster//Event Calendar 2.0//EN
METHOD:PUBLISH
X-PUBLISHED-TTL:P3D
REFRESH-INTERVAL:P3D
CALSCALE:GREGORIAN
BEGIN:VEVENT
DTSTART:20181005T003000Z
DTEND:20181005T023000Z
X-MICROSOFT-CDO-ALLDAYEVENT:FALSE
SUMMARY:Business After Hours - Kitsap Credit Union
DESCRIPTION:This is a quality time for Chamber businesses to gather to network\, socialize and support other local businesses. Join us for hors d oeuvres and beverages\, and make sure to bring your business cards!
X-ALT-DESC;FMTTYPE=text/html:This is a quality time for Chamber businesses to gather to network\, socialize and support other local businesses. Join us for hors d oeuvres and beverages\, and make sure to bring your business cards!
LOCATION:
UID:e.101.8949
SEQUENCE:3
DTSTAMP:20260421T091337Z
URL:https://business.puyallupsumnerchamber.com/events/details/business-after-hours-kitsap-credit-union-10-04-2018-8949
END:VEVENT

END:VCALENDAR
