BEGIN:VCALENDAR
VERSION:2.0
PRODID:-//ChamberMaster//Event Calendar 2.0//EN
METHOD:PUBLISH
X-PUBLISHED-TTL:P3D
REFRESH-INTERVAL:P3D
CALSCALE:GREGORIAN
BEGIN:VEVENT
DTSTART:20180629T003000Z
DTEND:20180629T023000Z
X-MICROSOFT-CDO-ALLDAYEVENT:FALSE
SUMMARY:Business After Hours - Molen Orthodontics
DESCRIPTION:This is a quality time for Chamber businesses to gather to network\, socialize and support other local businesses. Join us for hors d oeuvres and beverages\, and make sure to bring your business cards!
X-ALT-DESC;FMTTYPE=text/html:This is a quality time for Chamber businesses to gather to network\, socialize and support other local businesses. Join us for hors d oeuvres and beverages\, and make sure to bring your business cards!
LOCATION:16209 64th St E\, Suite 101 Sumner\, WA 98390
UID:e.101.8923
SEQUENCE:3
DTSTAMP:20260423T085341Z
URL:https://business.puyallupsumnerchamber.com/events/details/business-after-hours-molen-orthodontics-06-28-2018-8923
END:VEVENT

END:VCALENDAR
