BEGIN:VCALENDAR
VERSION:2.0
PRODID:-//ChamberMaster//Event Calendar 2.0//EN
METHOD:PUBLISH
X-PUBLISHED-TTL:P3D
REFRESH-INTERVAL:P3D
CALSCALE:GREGORIAN
BEGIN:VEVENT
DTSTART:20180424T143000Z
DTEND:20180424T160000Z
X-MICROSOFT-CDO-ALLDAYEVENT:FALSE
SUMMARY:Business Breakfast - Decoding People
DESCRIPTION:Speaker Thomas Tomasevic of T2-Team will be speaking to us about a fascinating aspect of employee engagement\; decoding people.\n\n\n\n"Over eons\, successful businesses have developed predictable and quantifiable methods for almost every aspect of their business in order to secure a predictable ROI. The irony is that the people capital\, the most important aspect of almost every business\, has remained an unpredictable component."
X-ALT-DESC;FMTTYPE=text/html:<span style="color:black\;"><span style="font-family:arial\,sans-serif\;"><span style="font-size:10.0pt\;">Speaker Thomas Tomasevic of T2-Team will be speaking to us about a fascinating aspect of employee engagement\; decoding people.<br />\n<br />\n&quot\;Over eons\, successful businesses have developed predictable and quantifiable methods for almost every aspect of their business in order to secure a predictable ROI. The irony is that the people capital\,&nbsp\;<u>the most important aspect of almost every business</u>\, has remained an unpredictable component.&quot\;</span></span></span><br />\n<br />\n&nbsp\;
LOCATION:Charlie's 113 E Main Puyallup\, WA 98372
UID:e.101.8925
SEQUENCE:3
DTSTAMP:20260421T070232Z
URL:https://business.puyallupsumnerchamber.com/events/details/business-breakfast-decoding-people-04-24-2018-8925
END:VEVENT

END:VCALENDAR
