BEGIN:VCALENDAR
VERSION:2.0
PRODID:-//ChamberMaster//Event Calendar 2.0//EN
METHOD:PUBLISH
X-PUBLISHED-TTL:P3D
REFRESH-INTERVAL:P3D
CALSCALE:GREGORIAN
BEGIN:VEVENT
DTSTART:20180724T143000Z
DTEND:20180724T160000Z
X-MICROSOFT-CDO-ALLDAYEVENT:FALSE
SUMMARY:Business Breakfast - Understanding L&I and Your Experience Modification Factor
DESCRIPTION:This month we will be hearing from some insurance experts on WA State L&I and how to control your experience modification factor. This has been very punitive for businesses in the state of WA\, and could be costing your company money. Our speakers want to give you a very high level taste of how we help companies keep money in their own pocket and not have it go to the State.
X-ALT-DESC;FMTTYPE=text/html:<span style="color:#1F497D\;">This month we will be hearing from some insurance experts on WA State L&amp\;I and how to control your experience modification factor. This has been very punitive for businesses in the state of WA\, and could be costing your company money. Our speakers want to give you a very high level taste of how we help companies keep money in their own pocket and not have it go to the State.</span><br />\n&nbsp\;<br />\n&nbsp\;
LOCATION:Charlie's 113 E Main Puyallup\, WA 98372
UID:e.101.8956
SEQUENCE:3
DTSTAMP:20260421T131347Z
URL:https://business.puyallupsumnerchamber.com/events/details/business-breakfast-understanding-l-i-and-your-experience-modification-factor-8956
END:VEVENT

END:VCALENDAR
