BEGIN:VCALENDAR
VERSION:2.0
PRODID:-//ChamberMaster//Event Calendar 2.0//EN
METHOD:PUBLISH
X-PUBLISHED-TTL:P3D
REFRESH-INTERVAL:P3D
CALSCALE:GREGORIAN
BEGIN:VEVENT
DTSTART:20180626T143000Z
DTEND:20180626T160000Z
X-MICROSOFT-CDO-ALLDAYEVENT:FALSE
SUMMARY:Business Breakfast - Update from the Port of Tacoma
DESCRIPTION:This year is the Port's Centennial\, and the Commissioners are out with a 100-year overview/economic impact of the port past/present/future. Commissioner John McCarthy will be speaking and its sure to be a good meeting. The ports success impacts us all\, so join us to get an update and a view into the future of our connection to the global economy.
X-ALT-DESC;FMTTYPE=text/html:<font color="#000000" face="arial\, sans-serif"><span style="font-size: 13.3333px\;">&nbsp\;T</span></font><span style="font-family:calibri\,sans-serif\;"><span style="font-size:11.0pt\;">his year is the Port&rsquo\;s Centennial\, and the Commissioners are out with a 100-year overview/economic impact of the port past/present/future. Commissioner John McCarthy will be speaking and its sure to be a good meeting. The ports success impacts us all\, so join us to get an update and a view into the future of our connection to the global economy.&nbsp\;&nbsp\;</span></span><br />\n<br />\n&nbsp\;
LOCATION:Charlie's 113 E Main Puyallup\, WA 98372
UID:e.101.8955
SEQUENCE:3
DTSTAMP:20260423T085701Z
URL:https://business.puyallupsumnerchamber.com/events/details/business-breakfast-update-from-the-port-of-tacoma-06-26-2018-8955
END:VEVENT

END:VCALENDAR
