BEGIN:VCALENDAR
VERSION:2.0
PRODID:-//ChamberMaster//Event Calendar 2.0//EN
METHOD:PUBLISH
X-PUBLISHED-TTL:P3D
REFRESH-INTERVAL:P3D
CALSCALE:GREGORIAN
BEGIN:VEVENT
DTSTART:20180522T143000Z
DTEND:20180522T160000Z
X-MICROSOFT-CDO-ALLDAYEVENT:FALSE
SUMMARY:Business Breakfast - WA-167 Expansion Update
DESCRIPTION:Craig Stone of WSDOT\, aka the "Roads Guy"\, will be here to tell us about the accelerator plan for the 167 expansion and the update on the current situation with the exit at Meridian. This is so important to all of us as the traffic affects business\, and quality of life for our residents. Make sure you get registered for this one\, you NEED to be there.
X-ALT-DESC;FMTTYPE=text/html:<font color="#000000" face="arial\, sans-serif"><span style="font-size: 13.3333px\;">Craig Stone of WSDOT\, aka the &quot\;Roads Guy&quot\;\, will be here to tell us about the accelerator plan for the 167 expansion and the update on the current situation with the exit at Meridian. This is so important to all of us as the traffic affects business\, and quality of life for our residents. Make sure you get registered for this one\, you NEED to be there.&nbsp\;</span></font>
LOCATION:Charlie's 113 E Main Puyallup\, WA 98372
UID:e.101.8954
SEQUENCE:3
DTSTAMP:20260421T091009Z
URL:https://business.puyallupsumnerchamber.com/events/details/business-breakfast-wa-167-expansion-update-05-22-2018-8954
END:VEVENT

END:VCALENDAR
