BEGIN:VCALENDAR
VERSION:2.0
PRODID:-//ChamberMaster//Event Calendar 2.0//EN
METHOD:PUBLISH
X-PUBLISHED-TTL:P3D
REFRESH-INTERVAL:P3D
CALSCALE:GREGORIAN
BEGIN:VEVENT
DTSTART;VALUE=DATE:20150613
DTEND;VALUE=DATE:20150614
TRANSP:TRANSPARENT
X-MICROSOFT-CDO-ALLDAYEVENT:TRUE
SUMMARY:Car Show at Sunrise Village
DESCRIPTION:Join us for our 1st Annual Car Show\n\n \nClassic Cars start arriving at 10am\n\nLive Band from noon - 3pm: Bonzai Billy & The Riptides\n\nRam Beer Garden 11am - 9pm\n\n\n\n50/50 Raffle Tickets will be sold to help raise money for the Puyallup Food Bank and Communities In Schools.  We will also accepting donations of non-perishable food!\n\n\n\nCATEGORIES:\n\n\n\nBest in Show (sponsored by Jersey Mike's)\n\nBest 40's (sponsored by The RAM)\n\nBest 50's (sponsored by The RAM)\n\nBest 60's  (sponsored by Veteran's United)\n\nBest 70's  (sponsored by Edward Jones)\n\nBest Daily Driver (sponsored by Jersey Mike's)\n\nBest Paint (sponsored by Salon Escape)\n\nBest Motorcycle (sponsored by Emerald City Smoothie)\n\nPeople's Choice (sponsored by Jersey Mike's)\n\nMost Muscular = Most Horsepower \n\n(sponsored by Emerald City Smoothie)\n\nBest Project Car/Work in Progress (sponsored by Hand & Stone)\n\n\n\n**If you are interested in participating with your classic car**\n\n\n\n*REGISTER by emailing us: info@mysunrisevillage.com \n\n\n\n1. Your Name\n\n2. Type of Car\n\n3. Category (see above)\n\n4. Any other comments (For example\, are you with a car group? Do you need a handicap accessible spot? etc.)\n\n\n\n\n\nWHEN YOU ARRIVE WITH YOUR CLASSIC CAR:\n\n\n\nCars will enter 156th Street E. on the end by Anchor Bank\n\nAfter 156th is full\, cars will then fill up the front parking lot (in front of MOD Pizza)\n\nPlease watch for signs and people directing you\n\n\n\nTHERE IS ROOM FOR EVERYONE!\n\n\n\nAfter you arrive/park one of us will approach you with your registration card to post in your car window\n\nGood luck and HAVE FUN!\n\n\n\n\n\n\n\n*Here's the fine print... By registering to participate in the Sunrise Village Car Show on June 13\, 2015 you are agreeing to our Hold Harmless:\n\n\n\nUser and Owner agree to the following:\n\n            User will indemnify\, defend and hold harmless Owner and the following entities: Meridian Sunrise Village L.L.C. its Owner\, U.S. Bank National Association its Lender\, Investco Financial Corporation its Manager and Tarragon Property Services L.L.C. its Managing agent\, and Target its Anchor Tenant from any and all claims\, injuries\, property damage\, actions and judgments\, including cost of defense and attorney's fees incurred in defending against same\, arising from and related to User's services or use of the premises located at Meridian Sunrise Village.  User's actions include the actions of User's agents and employees.\n\n            In the event any claim or suit is brought against the Owner within the scope of this Agreement\, user shall pay for legal counsel chosen by Owner to defend against the same.
X-ALT-DESC;FMTTYPE=text/html:<div style="text-align: center\;"><span style="font-size: 14px\;"><strong>Join us for our 1st Annual Car Show</strong></span><br />\n&nbsp\;</div>\nClassic Cars start arriving at 10am<br />\nLive Band from noon - 3pm: <strong>Bonzai Billy &amp\; The Riptides</strong><br />\nRam Beer Garden 11am - 9pm<br />\n<br />\n50/50 Raffle Tickets will be sold to help raise money for the Puyallup Food Bank and Communities In Schools.&nbsp\;&nbsp\;We&nbsp\;will also accepting donations of non-perishable food!<br />\n<br />\n<strong>CATEGORIES:</strong><br />\n<br />\nBest in Show (sponsored by Jersey Mike&#39\;s)<br />\nBest 40&#39\;s&nbsp\;(sponsored by The RAM)<br />\nBest 50&#39\;s&nbsp\;(sponsored by The RAM)<br />\nBest 60&#39\;s &nbsp\;(sponsored by Veteran&#39\;s United)<br />\nBest 70&#39\;s&nbsp\; (sponsored by Edward Jones)<br />\nBest Daily Driver&nbsp\;(sponsored by Jersey Mike&#39\;s)<br />\nBest Paint (sponsored by Salon Escape)<br />\nBest Motorcycle&nbsp\;(sponsored by Emerald City Smoothie)<br />\nPeople&#39\;s Choice&nbsp\;(sponsored by Jersey Mike&#39\;s)<br />\nMost Muscular = Most Horsepower&nbsp\;<br />\n(sponsored by Emerald City Smoothie)<br />\nBest Project Car/Work in Progress (sponsored by Hand &amp\; Stone)<br />\n<br />\n<strong>**If you are interested in participating with your classic car**</strong><br />\n<br />\n<strong><span style="color: rgb(255\, 0\, 0)\;">*</span>REGISTER</strong> by emailing us: info@mysunrisevillage.com&nbsp\;<br />\n<br />\n1. Your Name<br />\n2. Type of Car<br />\n3. Category (see above)<br />\n4. Any other comments (For example\, are you with a car group? Do you need a handicap accessible spot? etc.)<br />\n<br />\n<br />\n<strong>WHEN YOU ARRIVE WITH YOUR CLASSIC CAR:</strong><br />\n<br />\nCars will enter 156th Street E. on the end by Anchor Bank<br />\nAfter 156th is full\, cars will then fill up the front parking lot (in front of MOD Pizza)<br />\nPlease watch for signs and people directing you<br />\n<br />\n<strong>THERE IS ROOM FOR EVERYONE!</strong><br />\n<br />\nAfter you arrive/park one of us will approach you with your registration card to post in your car window<br />\nGood luck and HAVE FUN!<br />\n<br />\n<br />\n<br />\n<span style="color: rgb(255\, 0\, 0)\;"><strong>*Here&#39\;s the fine print... By registering to participate in the Sunrise Village Car Show on June 13\, 2015 you are agreeing to our Hold Harmless:</strong></span><br />\n<br />\n<span style="color: rgb(255\, 0\, 0)\;">User and Owner agree to the following:<br />\n&nbsp\;&nbsp\;&nbsp\;&nbsp\;&nbsp\;&nbsp\;&nbsp\;&nbsp\;&nbsp\;&nbsp\;&nbsp\; User will indemnify\, defend and hold harmless Owner and the following entities: Meridian Sunrise Village L.L.C. its Owner\, U.S. Bank National Association its Lender\, Investco Financial Corporation its Manager and Tarragon Property Services L.L.C. its Managing agent\, and Target its Anchor Tenant from any and all claims\, injuries\, property damage\, actions and judgments\, including cost of defense and attorney&rsquo\;s fees incurred in defending against same\, arising from and related to User&rsquo\;s services or use of the premises located at Meridian Sunrise Village.&nbsp\; User&rsquo\;s actions include the actions of User&rsquo\;s agents and employees.<br />\n&nbsp\;&nbsp\;&nbsp\;&nbsp\;&nbsp\;&nbsp\;&nbsp\;&nbsp\;&nbsp\;&nbsp\;&nbsp\; In the event any claim or suit is brought against the Owner within the scope of this Agreement\, user shall pay for legal counsel chosen by Owner to defend against the same.&nbsp\;</span><br />\n<br />\n&nbsp\;
LOCATION:10507 156th Street. Puyallup\, WA 98374
UID:e.101.6580
SEQUENCE:3
DTSTAMP:20260424T121723Z
URL:https://business.puyallupsumnerchamber.com/events/details/car-show-at-sunrise-village-06-13-2015-6580
END:VEVENT

END:VCALENDAR
