BEGIN:VCALENDAR
VERSION:2.0
PRODID:-//ChamberMaster//Event Calendar 2.0//EN
METHOD:PUBLISH
X-PUBLISHED-TTL:P3D
REFRESH-INTERVAL:P3D
CALSCALE:GREGORIAN
BEGIN:VEVENT
DTSTART:20180615T220000Z
DTEND:20180616T010000Z
X-MICROSOFT-CDO-ALLDAYEVENT:FALSE
SUMMARY:Career Connect Plug-In Job Fair
DESCRIPTION:Career\, Connect\, Plug-In Job Fair for youth 16-24 years.\n\nLocated at Frontier Park Lodge\n\n21718 Meridian Ave E Graham Wa. 98338.\n\n	There will be 40 vendors\n	Dress to inpress\n	Bring your resume\n	Vendors will be hiring on the spot
X-ALT-DESC;FMTTYPE=text/html:Career\, Connect\, Plug-In Job Fair for youth 16-24 years.<br />\nLocated at Frontier Park Lodge<br />\n21718 Meridian Ave E Graham Wa. 98338.\n<ul>\n	<li>There will be 40 vendors</li>\n	<li>Dress to inpress</li>\n	<li>Bring your resume</li>\n	<li>Vendors will be hiring on the spot</li>\n</ul>\n<br />\n&nbsp\;
LOCATION:Located at Frontier Park Lodge 21718 Meridian Ave E Graham Wa. 98338.
UID:e.101.9121
SEQUENCE:3
DTSTAMP:20260421T114817Z
URL:https://business.puyallupsumnerchamber.com/events/details/career-connect-plug-in-job-fair-9121
END:VEVENT

END:VCALENDAR
