BEGIN:VCALENDAR
VERSION:2.0
PRODID:-//ChamberMaster//Event Calendar 2.0//EN
METHOD:PUBLISH
X-PUBLISHED-TTL:P3D
REFRESH-INTERVAL:P3D
CALSCALE:GREGORIAN
BEGIN:VEVENT
DTSTART:20141116T000000Z
DTEND:20141116T030000Z
X-MICROSOFT-CDO-ALLDAYEVENT:FALSE
SUMMARY:Cascade Regional Blood Services Happy Thanks for Giving Hour
DESCRIPTION:Presented by Heritage Distilling Co. and Cascade Regional Blood Services Nov. 15\, 2014\, 4 to 7 p.m. at Heritage Distilling Co.\, Gig Harbor Please plan to join us for a special happy hour event where we will sample cocktail and food pairings featuring Heritage Distilling Co. spirits! Cocktail packages will be available for preorder and for sale that evening to stock your bar or your gift closet for the holiday season. Heritage Distilling Co. will donate a portion of the proceeds from these sales to CRBS. Funds raised will go toward a new bloodmobile. Silent auction items will also be available to help you get your holiday shopping started! Ticket price: $40 per person Space is limited. If you would like to register now\, you can do so at www.crbs.net/happyhour. If you have any questions\, please email marketing@crbs.net or call 253-383-2553.
X-ALT-DESC;FMTTYPE=text/html:Presented by Heritage Distilling Co. and Cascade Regional Blood Services Nov. 15\, 2014\, 4 to 7 p.m. at Heritage Distilling Co.\, Gig Harbor Please plan to join us for a special happy hour event where we will sample cocktail and food pairings featuring Heritage Distilling Co. spirits! Cocktail packages will be available for preorder and for sale that evening to stock your bar or your gift closet for the holiday season. Heritage Distilling Co. will donate a portion of the proceeds from these sales to CRBS. Funds raised will go toward a new bloodmobile. Silent auction items will also be available to help you get your holiday shopping started! Ticket price: $40 per person Space is limited. If you would like to register now\, you can do so at www.crbs.net/happyhour. If you have any questions\, please email marketing@crbs.net or call 253-383-2553.
LOCATION:Heritage Distilling Co. 3207 57th St Ct NW Gig Harbor\, WA 98335
UID:e.101.6515
SEQUENCE:3
DTSTAMP:20260424T235409Z
URL:https://business.puyallupsumnerchamber.com/events/details/cascade-regional-blood-services-happy-thanks-for-giving-hour-11-15-2014-6515
END:VEVENT

END:VCALENDAR
