BEGIN:VCALENDAR
VERSION:2.0
PRODID:-//ChamberMaster//Event Calendar 2.0//EN
METHOD:PUBLISH
X-PUBLISHED-TTL:P3D
REFRESH-INTERVAL:P3D
CALSCALE:GREGORIAN
BEGIN:VEVENT
DTSTART;VALUE=DATE:20151127
DTEND;VALUE=DATE:20151224
TRANSP:TRANSPARENT
X-MICROSOFT-CDO-ALLDAYEVENT:TRUE
SUMMARY:Celebrating the Chronicles Of Narnia
DESCRIPTION:All thru from 27th November to December 23rd we are celebrating C.S. Lewis The Chronicles of Narnia. Christmas Decor\, stepping back into the 40's. Dressed up for the occasion. Special Afternoon Tea. A Local Chorale singing Christmas favourites (Sunday\, Nov 29th) to get us into the spirit of the festive event\n\nSee how the Brits celebrate!
X-ALT-DESC;FMTTYPE=text/html:All thru from 27th November to December 23rd&nbsp\;we are celebrating C.S. Lewis The Chronicles of Narnia. Christmas Decor\, stepping back into the 40&#39\;s. Dressed up for the occasion. Special Afternoon Tea. A Local Chorale singing Christmas favourites (Sunday\, Nov 29th) to get us into the spirit of the festive event<br />\nSee how the Brits celebrate!
LOCATION:720 E Main\, Puyallup\, 98372
UID:e.101.6810
SEQUENCE:3
DTSTAMP:20260424T035751Z
URL:https://business.puyallupsumnerchamber.com/events/details/celebrating-the-chronicles-of-narnia-11-27-2015-6810
END:VEVENT

END:VCALENDAR
