BEGIN:VCALENDAR
VERSION:2.0
PRODID:-//ChamberMaster//Event Calendar 2.0//EN
METHOD:PUBLISH
X-PUBLISHED-TTL:P3D
REFRESH-INTERVAL:P3D
CALSCALE:GREGORIAN
BEGIN:VEVENT
DTSTART:20150612T180000Z
DTEND:20150612T200000Z
X-MICROSOFT-CDO-ALLDAYEVENT:FALSE
SUMMARY:Chamber Luncheon
DESCRIPTION:Military - Host a Troop\n\nHear what is happening at JBLM\n\nand sponsor a soldier's lunch\n\nIt is a great opportunity to meet an enlisted\n\nsoldier and get to know them.\n\nREGISTER
X-ALT-DESC;FMTTYPE=text/html:<div style="text-align: center\;"><span style="color:#000080\;"><big>Military - Host a Troop</big></span><br />\nHear what is happening at JBLM<br />\nand sponsor a soldier&#39\;s lunch<br />\nIt is a great opportunity to meet an enlisted<br />\nsoldier and get to know them.<br />\n<a href="http://www.puyallupsumnerchamber.com/june-monthly-luncheon/">REGISTER</a></div>\n
LOCATION:Best Western Premier Plaza 620 South Hill Park Drive Puyallup
UID:e.101.6581
SEQUENCE:3
DTSTAMP:20260424T120912Z
URL:https://business.puyallupsumnerchamber.com/events/details/chamber-luncheon-06-12-2015-6581
END:VEVENT

END:VCALENDAR
