BEGIN:VCALENDAR
VERSION:2.0
PRODID:-//ChamberMaster//Event Calendar 2.0//EN
METHOD:PUBLISH
X-PUBLISHED-TTL:P3D
REFRESH-INTERVAL:P3D
CALSCALE:GREGORIAN
BEGIN:VEVENT
DTSTART:20140912T183000Z
DTEND:20140912T200000Z
X-MICROSOFT-CDO-ALLDAYEVENT:FALSE
SUMMARY:Chamber Luncheon
DESCRIPTION:Puyallup Sumner Chamber of Commerce Monthly Luncheon
X-ALT-DESC;FMTTYPE=text/html:Puyallup Sumner Chamber of Commerce Monthly Luncheon
LOCATION:
UID:e.101.6486
SEQUENCE:3
DTSTAMP:20260425T031950Z
URL:https://business.puyallupsumnerchamber.com/events/details/chamber-luncheon-09-12-2014-6486
END:VEVENT

END:VCALENDAR
