BEGIN:VCALENDAR
VERSION:2.0
PRODID:-//ChamberMaster//Event Calendar 2.0//EN
METHOD:PUBLISH
X-PUBLISHED-TTL:P3D
REFRESH-INTERVAL:P3D
CALSCALE:GREGORIAN
BEGIN:VEVENT
DTSTART:20150918T063000Z
DTEND:20150917T200000Z
X-MICROSOFT-CDO-ALLDAYEVENT:FALSE
SUMMARY:Chamber Luncheon
DESCRIPTION:WA State Fair Community Service Luncheon\n\nMC'd by Kiwanian Kent Hojem!
X-ALT-DESC;FMTTYPE=text/html:WA State Fair Community Service Luncheon<br />\nMC&#39\;d by Kiwanian Kent Hojem!
LOCATION:Main Gate VIP Tend (Near Merry-Go-Round)
UID:e.101.5988
SEQUENCE:3
DTSTAMP:20260424T075117Z
URL:https://business.puyallupsumnerchamber.com/events/details/chamber-luncheon-09-17-2015-5988
END:VEVENT

END:VCALENDAR
